Workbook

Sheet README
A1: 業務プロセス分解シート 汎用版
A3: Google、Microsoft、その他を含む汎用バージョンのワークシートです。複数のAIツールから選択できます。
A5: ━━━━━━━━━━━━━━━━━━━━━━━━━━━━━━━━━━━━━━━━━━━━━━━━━━━━━━━━━━━━━━━━━━━━━━━━━━━━━━━━
A6: 【使い方】
A8: ステップ1：初心者の方は「簡易入力モード」から（5〜10分）
A9: ・最低限の項目（タスク名、頻度、時間、問題点、アイデア）のみ記入
A10: ・見本行を参考に、自分の業務を1行ずつ追加
A11: ・AI活用アイデアは簡潔に記入してください
A13: ステップ2：詳細に分析する場合は「詳細入力モード」を使用（15〜30分）
A14: ・現行の全項目に加え、以下を記入します：
A15: - AI活用アイデア（使用ツール名を明記）
A16: - AI導入による効果（例：30分削減、エラー率50%改善など）
... A964: 4. アクションプランとサマリーシートで結果を確認

Sheet 簡易入力モード
A1: タスク名 | B1: 頻度/週 | C1: 時間/件(分) | D1: 現状の問題点 | E1: AI活用アイデア（簡易）

Sheet 詳細入力モード
A1: タスク | B1: 現状フロー(入力→処理→出力) | C1: 頻度/週 | D1: 時間/件(分) | E1: 待ち時間/件(分) | F1: エラー率(%) | G1: ルール明確度(高/中/低) | H1: データ標準化度(高/中/低) | I1: ナレッジ依存度(高/中/低) | J1: 機密度(高/中/低) | K1: 候補手段(Gem/NotebookLM/GAS等) | L1: KPI(成功指標) | M1: 担当 | N1: 開始日 | O1: 評価日 | P1: Before工数(分/週) | Q1: After工数(分/週) | R1: AI活用アイデア | S1: AI導入による効果 | T1: 今すぐ実行するフラグ（◯/空欄） | U1: 基準工数(分/週) | V1: AI代替適性スコア(0-100) | W1: 推奨手段(自動) | X1: 代替割合見込み(0〜1) | Y1: 期待工数(分/週) | Z1: 削減見込み(分/週) | AA1: 実削減(分/週) | AB1: 実削減率
A2: =IF('簡易入力モード'!A2<>"",'簡易入力モード'!A2,"") | C2: =IF('簡易入力モード'!B2<>"",'簡易入力モード'!B2,"") | D2: =IF('簡易入力モード'!C2<>"",'簡易入力モード'!C2,"") | R2: =IF('簡易入力モード'!E2<>"",'簡易入力モード'!E2,"") | U2: =IFERROR(C2*(D2+E2),"") | V2: =ROUND(100*(0.2*MIN(1,IFERROR(C2/20,0))+0.15*MIN(1,IFERROR(E2/30,0))+0.2*IF(TRIM(G2)="高",1,IF(TRIM(G2)="中",0.5,0))+0.15*IF(TRIM(H2)="高",1,IF(TRIM(H2)="中",0.5,0))+0.1*MIN(1,IFERROR(F2/20,0))+0.15*IF(TRIM(I2)="高",1,IF(TRIM(I2)="中",0.5,0))+0.15*(1-IF(TRIM(J2)="高",1,IF(TRIM(J2)="中",0.5,0)))),0) | W2: =IF(G2="高",IF(H2<>"低","GAS",IF(I2="高","NotebookLM","Gem")),IF(I2="高","NotebookLM","Gem")) | X2: =IF(W2="Gem",0.4,IF(W2="NotebookLM",0.5,IF(W2="GAS",0.7,IF(W2="Microsoft Copilot",0.4,IF(W2="Microsoft 365 AI",0.4,IF(W2="Power Automate",0.7,IF(W2="Power Apps",0.6,IF(W2="ChatGPT",0.5,IF(W2="Claude",0.5,IF(W2="Gemini",0.5,IF(W2="Dify",0.6,IF(W2="n8n",0.7,IF(W2="Make",0.7,IF(W2="Zapier",0.7,IF(W2="一般的な社内AIチャット",0.5,IF(W2="その他",0.5,0.5)))))))))))))))) | Y2: =IFERROR(U2*(1-X2),"") | Z2: =IFERROR(U2-Y2,"") | AA2: =IF(AND(P2>0,Q2>=0),P2-Q2,"") | AB2: =IF(P2>0,(P2-Q2)/P2,"")
A3: =IF('簡易入力モード'!A3<>"",'簡易入力モード'!A3,"") | C3: =IF('簡易入力モード'!B3<>"",'簡易入力モード'!B3,"") | D3: =IF('簡易入力モード'!C3<>"",'簡易入力モード'!C3,"") | R3: =IF('簡易入力モード'!E3<>"",'簡易入力モード'!E3,"") | U3: =IFERROR(C3*(D3+E3),"") | V3: =ROUND(100*(0.2*MIN(1,IFERROR(C3/20,0))+0.15*MIN(1,IFERROR(E3/30,0))+0.2*IF(TRIM(G3)="高",1,IF(TRIM(G3)="中",0.5,0))+0.15*IF(TRIM(H3)="高",1,IF(TRIM(H3)="中",0.5,0))+0.1*MIN(1,IFERROR(F3/20,0))+0.15*IF(TRIM(I3)="高",1,IF(TRIM(I3)="中",0.5,0))+0.15*(1-IF(TRIM(J3)="高",1,IF(TRIM(J3)="中",0.5,0)))),0) | W3: =IF(G3="高",IF(H3<>"低","GAS",IF(I3="高","NotebookLM","Gem")),IF(I3="高","NotebookLM","Gem")) | X3: =IF(W3="Gem",0.4,IF(W3="NotebookLM",0.5,IF(W3="GAS",0.7,IF(W3="Microsoft Copilot",0.4,IF(W3="Microsoft 365 AI",0.4,IF(W3="Power Automate",0.7,IF(W3="Power Apps",0.6,IF(W3="ChatGPT",0.5,IF(W3="Claude",0.5,IF(W3="Gemini",0.5,IF(W3="Dify",0.6,IF(W3="n8n",0.7,IF(W3="Make",0.7,IF(W3="Zapier",0.7,IF(W3="一般的な社内AIチャット",0.5,IF(W3="その他",0.5,0.5)))))))))))))))) | Y3: =IFERROR(U3*(1-X3),"") | Z3: =IFERROR(U3-Y3,"") | AA3: =IF(AND(P3>0,Q3>=0),P3-Q3,"") | AB3: =IF(P3>0,(P3-Q3)/P3,"")
A4: =IF('簡易入力モード'!A4<>"",'簡易入力モード'!A4,"") | C4: =IF('簡易入力モード'!B4<>"",'簡易入力モード'!B4,"") | D4: =IF('簡易入力モード'!C4<>"",'簡易入力モード'!C4,"") | R4: =IF('簡易入力モード'!E4<>"",'簡易入力モード'!E4,"") | U4: =IFERROR(C4*(D4+E4),"") | V4: =ROUND(100*(0.2*MIN(1,IFERROR(C4/20,0))+0.15*MIN(1,IFERROR(E4/30,0))+0.2*IF(TRIM(G4)="高",1,IF(TRIM(G4)="中",0.5,0))+0.15*IF(TRIM(H4)="高",1,IF(TRIM(H4)="中",0.5,0))+0.1*MIN(1,IFERROR(F4/20,0))+0.15*IF(TRIM(I4)="高",1,IF(TRIM(I4)="中",0.5,0))+0.15*(1-IF(TRIM(J4)="高",1,IF(TRIM(J4)="中",0.5,0)))),0) | W4: =IF(G4="高",IF(H4<>"低","GAS",IF(I4="高","NotebookLM","Gem")),IF(I4="高","NotebookLM","Gem")) | X4: =IF(W4="Gem",0.4,IF(W4="NotebookLM",0.5,IF(W4="GAS",0.7,IF(W4="Microsoft Copilot",0.4,IF(W4="Microsoft 365 AI",0.4,IF(W4="Power Automate",0.7,IF(W4="Power Apps",0.6,IF(W4="ChatGPT",0.5,IF(W4="Claude",0.5,IF(W4="Gemini",0.5,IF(W4="Dify",0.6,IF(W4="n8n",0.7,IF(W4="Make",0.7,IF(W4="Zapier",0.7,IF(W4="一般的な社内AIチャット",0.5,IF(W4="その他",0.5,0.5)))))))))))))))) | Y4: =IFERROR(U4*(1-X4),"") | Z4: =IFERROR(U4-Y4,"") | AA4: =IF(AND(P4>0,Q4>=0),P4-Q4,"") | AB4: =IF(P4>0,(P4-Q4)/P4,"")
A5: =IF('簡易入力モード'!A5<>"",'簡易入力モード'!A5,"") | C5: =IF('簡易入力モード'!B5<>"",'簡易入力モード'!B5,"") | D5: =IF('簡易入力モード'!C5<>"",'簡易入力モード'!C5,"") | R5: =IF('簡易入力モード'!E5<>"",'簡易入力モード'!E5,"") | U5: =IFERROR(C5*(D5+E5),"") | V5: =ROUND(100*(0.2*MIN(1,IFERROR(C5/20,0))+0.15*MIN(1,IFERROR(E5/30,0))+0.2*IF(TRIM(G5)="高",1,IF(TRIM(G5)="中",0.5,0))+0.15*IF(TRIM(H5)="高",1,IF(TRIM(H5)="中",0.5,0))+0.1*MIN(1,IFERROR(F5/20,0))+0.15*IF(TRIM(I5)="高",1,IF(TRIM(I5)="中",0.5,0))+0.15*(1-IF(TRIM(J5)="高",1,IF(TRIM(J5)="中",0.5,0)))),0) | W5: =IF(G5="高",IF(H5<>"低","GAS",IF(I5="高","NotebookLM","Gem")),IF(I5="高","NotebookLM","Gem")) | X5: =IF(W5="Gem",0.4,IF(W5="NotebookLM",0.5,IF(W5="GAS",0.7,IF(W5="Microsoft Copilot",0.4,IF(W5="Microsoft 365 AI",0.4,IF(W5="Power Automate",0.7,IF(W5="Power Apps",0.6,IF(W5="ChatGPT",0.5,IF(W5="Claude",0.5,IF(W5="Gemini",0.5,IF(W5="Dify",0.6,IF(W5="n8n",0.7,IF(W5="Make",0.7,IF(W5="Zapier",0.7,IF(W5="一般的な社内AIチャット",0.5,IF(W5="その他",0.5,0.5)))))))))))))))) | Y5: =IFERROR(U5*(1-X5),"") | Z5: =IFERROR(U5-Y5,"") | AA5: =IF(AND(P5>0,Q5>=0),P5-Q5,"") | AB5: =IF(P5>0,(P5-Q5)/P5,"")
A6: =IF('簡易入力モード'!A6<>"",'簡易入力モード'!A6,"") | C6: =IF('簡易入力モード'!B6<>"",'簡易入力モード'!B6,"") | D6: =IF('簡易入力モード'!C6<>"",'簡易入力モード'!C6,"") | R6: =IF('簡易入力モード'!E6<>"",'簡易入力モード'!E6,"") | U6: =IFERROR(C6*(D6+E6),"") | V6: =ROUND(100*(0.2*MIN(1,IFERROR(C6/20,0))+0.15*MIN(1,IFERROR(E6/30,0))+0.2*IF(TRIM(G6)="高",1,IF(TRIM(G6)="中",0.5,0))+0.15*IF(TRIM(H6)="高",1,IF(TRIM(H6)="中",0.5,0))+0.1*MIN(1,IFERROR(F6/20,0))+0.15*IF(TRIM(I6)="高",1,IF(TRIM(I6)="中",0.5,0))+0.15*(1-IF(TRIM(J6)="高",1,IF(TRIM(J6)="中",0.5,0)))),0) | W6: =IF(G6="高",IF(H6<>"低","GAS",IF(I6="高","NotebookLM","Gem")),IF(I6="高","NotebookLM","Gem")) | X6: =IF(W6="Gem",0.4,IF(W6="NotebookLM",0.5,IF(W6="GAS",0.7,IF(W6="Microsoft Copilot",0.4,IF(W6="Microsoft 365 AI",0.4,IF(W6="Power Automate",0.7,IF(W6="Power Apps",0.6,IF(W6="ChatGPT",0.5,IF(W6="Claude",0.5,IF(W6="Gemini",0.5,IF(W6="Dify",0.6,IF(W6="n8n",0.7,IF(W6="Make",0.7,IF(W6="Zapier",0.7,IF(W6="一般的な社内AIチャット",0.5,IF(W6="その他",0.5,0.5)))))))))))))))) | Y6: =IFERROR(U6*(1-X6),"") | Z6: =IFERROR(U6-Y6,"") | AA6: =IF(AND(P6>0,Q6>=0),P6-Q6,"") | AB6: =IF(P6>0,(P6-Q6)/P6,"")
A7: =IF('簡易入力モード'!A7<>"",'簡易入力モード'!A7,"") | C7: =IF('簡易入力モード'!B7<>"",'簡易入力モード'!B7,"") | D7: =IF('簡易入力モード'!C7<>"",'簡易入力モード'!C7,"") | R7: =IF('簡易入力モード'!E7<>"",'簡易入力モード'!E7,"") | U7: =IFERROR(C7*(D7+E7),"") | V7: =ROUND(100*(0.2*MIN(1,IFERROR(C7/20,0))+0.15*MIN(1,IFERROR(E7/30,0))+0.2*IF(TRIM(G7)="高",1,IF(TRIM(G7)="中",0.5,0))+0.15*IF(TRIM(H7)="高",1,IF(TRIM(H7)="中",0.5,0))+0.1*MIN(1,IFERROR(F7/20,0))+0.15*IF(TRIM(I7)="高",1,IF(TRIM(I7)="中",0.5,0))+0.15*(1-IF(TRIM(J7)="高",1,IF(TRIM(J7)="中",0.5,0)))),0) | W7: =IF(G7="高",IF(H7<>"低","GAS",IF(I7="高","NotebookLM","Gem")),IF(I7="高","NotebookLM","Gem")) | X7: =IF(W7="Gem",0.4,IF(W7="NotebookLM",0.5,IF(W7="GAS",0.7,IF(W7="Microsoft Copilot",0.4,IF(W7="Microsoft 365 AI",0.4,IF(W7="Power Automate",0.7,IF(W7="Power Apps",0.6,IF(W7="ChatGPT",0.5,IF(W7="Claude",0.5,IF(W7="Gemini",0.5,IF(W7="Dify",0.6,IF(W7="n8n",0.7,IF(W7="Make",0.7,IF(W7="Zapier",0.7,IF(W7="一般的な社内AIチャット",0.5,IF(W7="その他",0.5,0.5)))))))))))))))) | Y7: =IFERROR(U7*(1-X7),"") | Z7: =IFERROR(U7-Y7,"") | AA7: =IF(AND(P7>0,Q7>=0),P7-Q7,"") | AB7: =IF(P7>0,(P7-Q7)/P7,"")
A8: =IF('簡易入力モード'!A8<>"",'簡易入力モード'!A8,"") | C8: =IF('簡易入力モード'!B8<>"",'簡易入力モード'!B8,"") | D8: =IF('簡易入力モード'!C8<>"",'簡易入力モード'!C8,"") | R8: =IF('簡易入力モード'!E8<>"",'簡易入力モード'!E8,"") | U8: =IFERROR(C8*(D8+E8),"") | V8: =ROUND(100*(0.2*MIN(1,IFERROR(C8/20,0))+0.15*MIN(1,IFERROR(E8/30,0))+0.2*IF(TRIM(G8)="高",1,IF(TRIM(G8)="中",0.5,0))+0.15*IF(TRIM(H8)="高",1,IF(TRIM(H8)="中",0.5,0))+0.1*MIN(1,IFERROR(F8/20,0))+0.15*IF(TRIM(I8)="高",1,IF(TRIM(I8)="中",0.5,0))+0.15*(1-IF(TRIM(J8)="高",1,IF(TRIM(J8)="中",0.5,0)))),0) | W8: =IF(G8="高",IF(H8<>"低","GAS",IF(I8="高","NotebookLM","Gem")),IF(I8="高","NotebookLM","Gem")) | X8: =IF(W8="Gem",0.4,IF(W8="NotebookLM",0.5,IF(W8="GAS",0.7,IF(W8="Microsoft Copilot",0.4,IF(W8="Microsoft 365 AI",0.4,IF(W8="Power Automate",0.7,IF(W8="Power Apps",0.6,IF(W8="ChatGPT",0.5,IF(W8="Claude",0.5,IF(W8="Gemini",0.5,IF(W8="Dify",0.6,IF(W8="n8n",0.7,IF(W8="Make",0.7,IF(W8="Zapier",0.7,IF(W8="一般的な社内AIチャット",0.5,IF(W8="その他",0.5,0.5)))))))))))))))) | Y8: =IFERROR(U8*(1-X8),"") | Z8: =IFERROR(U8-Y8,"") | AA8: =IF(AND(P8>0,Q8>=0),P8-Q8,"") | AB8: =IF(P8>0,(P8-Q8)/P8,"")
A9: =IF('簡易入力モード'!A9<>"",'簡易入力モード'!A9,"") | C9: =IF('簡易入力モード'!B9<>"",'簡易入力モード'!B9,"") | D9: =IF('簡易入力モード'!C9<>"",'簡易入力モード'!C9,"") | R9: =IF('簡易入力モード'!E9<>"",'簡易入力モード'!E9,"") | U9: =IFERROR(C9*(D9+E9),"") | V9: =ROUND(100*(0.2*MIN(1,IFERROR(C9/20,0))+0.15*MIN(1,IFERROR(E9/30,0))+0.2*IF(TRIM(G9)="高",1,IF(TRIM(G9)="中",0.5,0))+0.15*IF(TRIM(H9)="高",1,IF(TRIM(H9)="中",0.5,0))+0.1*MIN(1,IFERROR(F9/20,0))+0.15*IF(TRIM(I9)="高",1,IF(TRIM(I9)="中",0.5,0))+0.15*(1-IF(TRIM(J9)="高",1,IF(TRIM(J9)="中",0.5,0)))),0) | W9: =IF(G9="高",IF(H9<>"低","GAS",IF(I9="高","NotebookLM","Gem")),IF(I9="高","NotebookLM","Gem")) | X9: =IF(W9="Gem",0.4,IF(W9="NotebookLM",0.5,IF(W9="GAS",0.7,IF(W9="Microsoft Copilot",0.4,IF(W9="Microsoft 365 AI",0.4,IF(W9="Power Automate",0.7,IF(W9="Power Apps",0.6,IF(W9="ChatGPT",0.5,IF(W9="Claude",0.5,IF(W9="Gemini",0.5,IF(W9="Dify",0.6,IF(W9="n8n",0.7,IF(W9="Make",0.7,IF(W9="Zapier",0.7,IF(W9="一般的な社内AIチャット",0.5,IF(W9="その他",0.5,0.5)))))))))))))))) | Y9: =IFERROR(U9*(1-X9),"") | Z9: =IFERROR(U9-Y9,"") | AA9: =IF(AND(P9>0,Q9>=0),P9-Q9,"") | AB9: =IF(P9>0,(P9-Q9)/P9,"")
A10: =IF('簡易入力モード'!A10<>"",'簡易入力モード'!A10,"") | C10: =IF('簡易入力モード'!B10<>"",'簡易入力モード'!B10,"") | D10: =IF('簡易入力モード'!C10<>"",'簡易入力モード'!C10,"") | R10: =IF('簡易入力モード'!E10<>"",'簡易入力モード'!E10,"") | U10: =IFERROR(C10*(D10+E10),"") | V10: =ROUND(100*(0.2*MIN(1,IFERROR(C10/20,0))+0.15*MIN(1,IFERROR(E10/30,0))+0.2*IF(TRIM(G10)="高",1,IF(TRIM(G10)="中",0.5,0))+0.15*IF(TRIM(H10)="高",1,IF(TRIM(H10)="中",0.5,0))+0.1*MIN(1,IFERROR(F10/20,0))+0.15*IF(TRIM(I10)="高",1,IF(TRIM(I10)="中",0.5,0))+0.15*(1-IF(TRIM(J10)="高",1,IF(TRIM(J10)="中",0.5,0)))),0) | W10: =IF(G10="高",IF(H10<>"低","GAS",IF(I10="高","NotebookLM","Gem")),IF(I10="高","NotebookLM","Gem")) | X10: =IF(W10="Gem",0.4,IF(W10="NotebookLM",0.5,IF(W10="GAS",0.7,IF(W10="Microsoft Copilot",0.4,IF(W10="Microsoft 365 AI",0.4,IF(W10="Power Automate",0.7,IF(W10="Power Apps",0.6,IF(W10="ChatGPT",0.5,IF(W10="Claude",0.5,IF(W10="Gemini",0.5,IF(W10="Dify",0.6,IF(W10="n8n",0.7,IF(W10="Make",0.7,IF(W10="Zapier",0.7,IF(W10="一般的な社内AIチャット",0.5,IF(W10="その他",0.5,0.5)))))))))))))))) | Y10: =IFERROR(U10*(1-X10),"") | Z10: =IFERROR(U10-Y10,"") | AA10: =IF(AND(P10>0,Q10>=0),P10-Q10,"") | AB10: =IF(P10>0,(P10-Q10)/P10,"")
A11: =IF('簡易入力モード'!A11<>"",'簡易入力モード'!A11,"") | C11: =IF('簡易入力モード'!B11<>"",'簡易入力モード'!B11,"") | D11: =IF('簡易入力モード'!C11<>"",'簡易入力モード'!C11,"") | R11: =IF('簡易入力モード'!E11<>"",'簡易入力モード'!E11,"") | U11: =IFERROR(C11*(D11+E11),"") | V11: =ROUND(100*(0.2*MIN(1,IFERROR(C11/20,0))+0.15*MIN(1,IFERROR(E11/30,0))+0.2*IF(TRIM(G11)="高",1,IF(TRIM(G11)="中",0.5,0))+0.15*IF(TRIM(H11)="高",1,IF(TRIM(H11)="中",0.5,0))+0.1*MIN(1,IFERROR(F11/20,0))+0.15*IF(TRIM(I11)="高",1,IF(TRIM(I11)="中",0.5,0))+0.15*(1-IF(TRIM(J11)="高",1,IF(TRIM(J11)="中",0.5,0)))),0) | W11: =IF(G11="高",IF(H11<>"低","GAS",IF(I11="高","NotebookLM","Gem")),IF(I11="高","NotebookLM","Gem")) | X11: =IF(W11="Gem",0.4,IF(W11="NotebookLM",0.5,IF(W11="GAS",0.7,IF(W11="Microsoft Copilot",0.4,IF(W11="Microsoft 365 AI",0.4,IF(W11="Power Automate",0.7,IF(W11="Power Apps",0.6,IF(W11="ChatGPT",0.5,IF(W11="Claude",0.5,IF(W11="Gemini",0.5,IF(W11="Dify",0.6,IF(W11="n8n",0.7,IF(W11="Make",0.7,IF(W11="Zapier",0.7,IF(W11="一般的な社内AIチャット",0.5,IF(W11="その他",0.5,0.5)))))))))))))))) | Y11: =IFERROR(U11*(1-X11),"") | Z11: =IFERROR(U11-Y11,"") | AA11: =IF(AND(P11>0,Q11>=0),P11-Q11,"") | AB11: =IF(P11>0,(P11-Q11)/P11,"")
A12: 社内稟議書作成 | C12: 3 | D12: 45 | U12: =IFERROR(C12*(D12+E12),"") | V12: =ROUND(100*(0.2*MIN(1,IFERROR(C12/20,0))+0.15*MIN(1,IFERROR(E12/30,0))+0.2*IF(TRIM(G12)="高",1,IF(TRIM(G12)="中",0.5,0))+0.15*IF(TRIM(H12)="高",1,IF(TRIM(H12)="中",0.5,0))+0.1*MIN(1,IFERROR(F12/20,0))+0.15*IF(TRIM(I12)="高",1,IF(TRIM(I12)="中",0.5,0))+0.15*(1-IF(TRIM(J12)="高",1,IF(TRIM(J12)="中",0.5,0)))),0) | W12: =IF(G12="高",IF(H12<>"低","GAS",IF(I12="高","NotebookLM","Gem")),IF(I12="高","NotebookLM","Gem")) | X12: =IF(W12="Gem",0.4,IF(W12="NotebookLM",0.5,IF(W12="GAS",0.7,IF(W12="Microsoft Copilot",0.4,IF(W12="Microsoft 365 AI",0.4,IF(W12="Power Automate",0.7,IF(W12="Power Apps",0.6,IF(W12="ChatGPT",0.5,IF(W12="Claude",0.5,IF(W12="Gemini",0.5,IF(W12="Dify",0.6,IF(W12="n8n",0.7,IF(W12="Make",0.7,IF(W12="Zapier",0.7,IF(W12="一般的な社内AIチャット",0.5,IF(W12="その他",0.5,0.5)))))))))))))))) | Y12: =IFERROR(U12*(1-X12),"") | Z12: =IFERROR(U12-Y12,"") | AA12: =IF(AND(P12>0,Q12>=0),P12-Q12,"") | AB12: =IF(P12>0,(P12-Q12)/P12,"")
A13: 契約書チェック | C13: 5 | D13: 30 | U13: =IFERROR(C13*(D13+E13),"") | V13: =ROUND(100*(0.2*MIN(1,IFERROR(C13/20,0))+0.15*MIN(1,IFERROR(E13/30,0))+0.2*IF(TRIM(G13)="高",1,IF(TRIM(G13)="中",0.5,0))+0.15*IF(TRIM(H13)="高",1,IF(TRIM(H13)="中",0.5,0))+0.1*MIN(1,IFERROR(F13/20,0))+0.15*IF(TRIM(I13)="高",1,IF(TRIM(I13)="中",0.5,0))+0.15*(1-IF(TRIM(J13)="高",1,IF(TRIM(J13)="中",0.5,0)))),0) | W13: =IF(G13="高",IF(H13<>"低","GAS",IF(I13="高","NotebookLM","Gem")),IF(I13="高","NotebookLM","Gem")) | X13: =IF(W13="Gem",0.4,IF(W13="NotebookLM",0.5,IF(W13="GAS",0.7,IF(W13="Microsoft Copilot",0.4,IF(W13="Microsoft 365 AI",0.4,IF(W13="Power Automate",0.7,IF(W13="Power Apps",0.6,IF(W13="ChatGPT",0.5,IF(W13="Claude",0.5,IF(W13="Gemini",0.5,IF(W13="Dify",0.6,IF(W13="n8n",0.7,IF(W13="Make",0.7,IF(W13="Zapier",0.7,IF(W13="一般的な社内AIチャット",0.5,IF(W13="その他",0.5,0.5)))))))))))))))) | Y13: =IFERROR(U13*(1-X13),"") | Z13: =IFERROR(U13-Y13,"") | AA13: =IF(AND(P13>0,Q13>=0),P13-Q13,"") | AB13: =IF(P13>0,(P13-Q13)/P13,"")
A14: データベース更新 | C14: 8 | D14: 20 | U14: =IFERROR(C14*(D14+E14),"") | V14: =ROUND(100*(0.2*MIN(1,IFERROR(C14/20,0))+0.15*MIN(1,IFERROR(E14/30,0))+0.2*IF(TRIM(G14)="高",1,IF(TRIM(G14)="中",0.5,0))+0.15*IF(TRIM(H14)="高",1,IF(TRIM(H14)="中",0.5,0))+0.1*MIN(1,IFERROR(F14/20,0))+0.15*IF(TRIM(I14)="高",1,IF(TRIM(I14)="中",0.5,0))+0.15*(1-IF(TRIM(J14)="高",1,IF(TRIM(J14)="中",0.5,0)))),0) | W14: =IF(G14="高",IF(H14<>"低","GAS",IF(I14="高","NotebookLM","Gem")),IF(I14="高","NotebookLM","Gem")) | X14: =IF(W14="Gem",0.4,IF(W14="NotebookLM",0.5,IF(W14="GAS",0.7,IF(W14="Microsoft Copilot",0.4,IF(W14="Microsoft 365 AI",0.4,IF(W14="Power Automate",0.7,IF(W14="Power Apps",0.6,IF(W14="ChatGPT",0.5,IF(W14="Claude",0.5,IF(W14="Gemini",0.5,IF(W14="Dify",0.6,IF(W14="n8n",0.7,IF(W14="Make",0.7,IF(W14="Zapier",0.7,IF(W14="一般的な社内AIチャット",0.5,IF(W14="その他",0.5,0.5)))))))))))))))) | Y14: =IFERROR(U14*(1-X14),"") | Z14: =IFERROR(U14-Y14,"") | AA14: =IF(AND(P14>0,Q14>=0),P14-Q14,"") | AB14: =IF(P14>0,(P14-Q14)/P14,"")
A15: 月次予算実績比較 | C15: 1 | D15: 180 | U15: =IFERROR(C15*(D15+E15),"") | V15: =ROUND(100*(0.2*MIN(1,IFERROR(C15/20,0))+0.15*MIN(1,IFERROR(E15/30,0))+0.2*IF(TRIM(G15)="高",1,IF(TRIM(G15)="中",0.5,0))+0.15*IF(TRIM(H15)="高",1,IF(TRIM(H15)="中",0.5,0))+0.1*MIN(1,IFERROR(F15/20,0))+0.15*IF(TRIM(I15)="高",1,IF(TRIM(I15)="中",0.5,0))+0.15*(1-IF(TRIM(J15)="高",1,IF(TRIM(J15)="中",0.5,0)))),0) | W15: =IF(G15="高",IF(H15<>"低","GAS",IF(I15="高","NotebookLM","Gem")),IF(I15="高","NotebookLM","Gem")) | X15: =IF(W15="Gem",0.4,IF(W15="NotebookLM",0.5,IF(W15="GAS",0.7,IF(W15="Microsoft Copilot",0.4,IF(W15="Microsoft 365 AI",0.4,IF(W15="Power Automate",0.7,IF(W15="Power Apps",0.6,IF(W15="ChatGPT",0.5,IF(W15="Claude",0.5,IF(W15="Gemini",0.5,IF(W15="Dify",0.6,IF(W15="n8n",0.7,IF(W15="Make",0.7,IF(W15="Zapier",0.7,IF(W15="一般的な社内AIチャット",0.5,IF(W15="その他",0.5,0.5)))))))))))))))) | Y15: =IFERROR(U15*(1-X15),"") | Z15: =IFERROR(U15-Y15,"") | AA15: =IF(AND(P15>0,Q15>=0),P15-Q15,"") | AB15: =IF(P15>0,(P15-Q15)/P15,"")
A16: 顧客対応履歴整理 | C16: 6 | D16: 25 | U16: =IFERROR(C16*(D16+E16),"") | V16: =ROUND(100*(0.2*MIN(1,IFERROR(C16/20,0))+0.15*MIN(1,IFERROR(E16/30,0))+0.2*IF(TRIM(G16)="高",1,IF(TRIM(G16)="中",0.5,0))+0.15*IF(TRIM(H16)="高",1,IF(TRIM(H16)="中",0.5,0))+0.1*MIN(1,IFERROR(F16/20,0))+0.15*IF(TRIM(I16)="高",1,IF(TRIM(I16)="中",0.5,0))+0.15*(1-IF(TRIM(J16)="高",1,IF(TRIM(J16)="中",0.5,0)))),0) | W16: =IF(G16="高",IF(H16<>"低","GAS",IF(I16="高","NotebookLM","Gem")),IF(I16="高","NotebookLM","Gem")) | X16: =IF(W16="Gem",0.4,IF(W16="NotebookLM",0.5,IF(W16="GAS",0.7,IF(W16="Microsoft Copilot",0.4,IF(W16="Microsoft 365 AI",0.4,IF(W16="Power Automate",0.7,IF(W16="Power Apps",0.6,IF(W16="ChatGPT",0.5,IF(W16="Claude",0.5,IF(W16="Gemini",0.5,IF(W16="Dify",0.6,IF(W16="n8n",0.7,IF(W16="Make",0.7,IF(W16="Zapier",0.7,IF(W16="一般的な社内AIチャット",0.5,IF(W16="その他",0.5,0.5)))))))))))))))) | Y16: =IFERROR(U16*(1-X16),"") | Z16: =IFERROR(U16-Y16,"") | AA16: =IF(AND(P16>0,Q16>=0),P16-Q16,"") | AB16: =IF(P16>0,(P16-Q16)/P16,"")
A17: =IF('簡易入力モード'!A17<>"",'簡易入力モード'!A17,"") | C17: =IF('簡易入力モード'!B17<>"",'簡易入力モード'!B17,"") | D17: =IF('簡易入力モード'!C17<>"",'簡易入力モード'!C17,"") | R17: =IF('簡易入力モード'!E17<>"",'簡易入力モード'!E17,"") | U17: =IFERROR(C17*(D17+E17),"") | V17: =ROUND(100*(0.2*MIN(1,IFERROR(C17/20,0))+0.15*MIN(1,IFERROR(E17/30,0))+0.2*IF(TRIM(G17)="高",1,IF(TRIM(G17)="中",0.5,0))+0.15*IF(TRIM(H17)="高",1,IF(TRIM(H17)="中",0.5,0))+0.1*MIN(1,IFERROR(F17/20,0))+0.15*IF(TRIM(I17)="高",1,IF(TRIM(I17)="中",0.5,0))+0.15*(1-IF(TRIM(J17)="高",1,IF(TRIM(J17)="中",0.5,0)))),0) | W17: =IF(G17="高",IF(H17<>"低","GAS",IF(I17="高","NotebookLM","Gem")),IF(I17="高","NotebookLM","Gem")) | X17: =IF(W17="Gem",0.4,IF(W17="NotebookLM",0.5,IF(W17="GAS",0.7,IF(W17="Microsoft Copilot",0.4,IF(W17="Microsoft 365 AI",0.4,IF(W17="Power Automate",0.7,IF(W17="Power Apps",0.6,IF(W17="ChatGPT",0.5,IF(W17="Claude",0.5,IF(W17="Gemini",0.5,IF(W17="Dify",0.6,IF(W17="n8n",0.7,IF(W17="Make",0.7,IF(W17="Zapier",0.7,IF(W17="その他",0.5,0.5))))))))))))))) | Y17: =IFERROR(U17*(1-X17),"") | Z17: =IFERROR(U17-Y17,"") | AA17: =IF(AND(P17>0,Q17>=0),P17-Q17,"") | AB17: =IF(P17>0,(P17-Q17)/P17,"")
A18: =IF('簡易入力モード'!A18<>"",'簡易入力モード'!A18,"") | C18: =IF('簡易入力モード'!B18<>"",'簡易入力モード'!B18,"") | D18: =IF('簡易入力モード'!C18<>"",'簡易入力モード'!C18,"") | R18: =IF('簡易入力モード'!E18<>"",'簡易入力モード'!E18,"") | U18: =IFERROR(C18*(D18+E18),"") | V18: =ROUND(100*(0.2*MIN(1,IFERROR(C18/20,0))+0.15*MIN(1,IFERROR(E18/30,0))+0.2*IF(TRIM(G18)="高",1,IF(TRIM(G18)="中",0.5,0))+0.15*IF(TRIM(H18)="高",1,IF(TRIM(H18)="中",0.5,0))+0.1*MIN(1,IFERROR(F18/20,0))+0.15*IF(TRIM(I18)="高",1,IF(TRIM(I18)="中",0.5,0))+0.15*(1-IF(TRIM(J18)="高",1,IF(TRIM(J18)="中",0.5,0)))),0) | W18: =IF(G18="高",IF(H18<>"低","GAS",IF(I18="高","NotebookLM","Gem")),IF(I18="高","NotebookLM","Gem")) | X18: =IF(W18="Gem",0.4,IF(W18="NotebookLM",0.5,IF(W18="GAS",0.7,IF(W18="Microsoft Copilot",0.4,IF(W18="Microsoft 365 AI",0.4,IF(W18="Power Automate",0.7,IF(W18="Power Apps",0.6,IF(W18="ChatGPT",0.5,IF(W18="Claude",0.5,IF(W18="Gemini",0.5,IF(W18="Dify",0.6,IF(W18="n8n",0.7,IF(W18="Make",0.7,IF(W18="Zapier",0.7,IF(W18="その他",0.5,0.5))))))))))))))) | Y18: =IFERROR(U18*(1-X18),"") | Z18: =IFERROR(U18-Y18,"") | AA18: =IF(AND(P18>0,Q18>=0),P18-Q18,"") | AB18: =IF(P18>0,(P18-Q18)/P18,"")
A19: =IF('簡易入力モード'!A19<>"",'簡易入力モード'!A19,"") | C19: =IF('簡易入力モード'!B19<>"",'簡易入力モード'!B19,"") | D19: =IF('簡易入力モード'!C19<>"",'簡易入力モード'!C19,"") | R19: =IF('簡易入力モード'!E19<>"",'簡易入力モード'!E19,"") | U19: =IFERROR(C19*(D19+E19),"") | V19: =ROUND(100*(0.2*MIN(1,IFERROR(C19/20,0))+0.15*MIN(1,IFERROR(E19/30,0))+0.2*IF(TRIM(G19)="高",1,IF(TRIM(G19)="中",0.5,0))+0.15*IF(TRIM(H19)="高",1,IF(TRIM(H19)="中",0.5,0))+0.1*MIN(1,IFERROR(F19/20,0))+0.15*IF(TRIM(I19)="高",1,IF(TRIM(I19)="中",0.5,0))+0.15*(1-IF(TRIM(J19)="高",1,IF(TRIM(J19)="中",0.5,0)))),0) | W19: =IF(G19="高",IF(H19<>"低","GAS",IF(I19="高","NotebookLM","Gem")),IF(I19="高","NotebookLM","Gem")) | X19: =IF(W19="Gem",0.4,IF(W19="NotebookLM",0.5,IF(W19="GAS",0.7,IF(W19="Microsoft Copilot",0.4,IF(W19="Microsoft 365 AI",0.4,IF(W19="Power Automate",0.7,IF(W19="Power Apps",0.6,IF(W19="ChatGPT",0.5,IF(W19="Claude",0.5,IF(W19="Gemini",0.5,IF(W19="Dify",0.6,IF(W19="n8n",0.7,IF(W19="Make",0.7,IF(W19="Zapier",0.7,IF(W19="その他",0.5,0.5))))))))))))))) | Y19: =IFERROR(U19*(1-X19),"") | Z19: =IFERROR(U19-Y19,"") | AA19: =IF(AND(P19>0,Q19>=0),P19-Q19,"") | AB19: =IF(P19>0,(P19-Q19)/P19,"")
A20: =IF('簡易入力モード'!A20<>"",'簡易入力モード'!A20,"") | C20: =IF('簡易入力モード'!B20<>"",'簡易入力モード'!B20,"") | D20: =IF('簡易入力モード'!C20<>"",'簡易入力モード'!C20,"") | R20: =IF('簡易入力モード'!E20<>"",'簡易入力モード'!E20,"") | U20: =IFERROR(C20*(D20+E20),"") | V20: =ROUND(100*(0.2*MIN(1,IFERROR(C20/20,0))+0.15*MIN(1,IFERROR(E20/30,0))+0.2*IF(TRIM(G20)="高",1,IF(TRIM(G20)="中",0.5,0))+0.15*IF(TRIM(H20)="高",1,IF(TRIM(H20)="中",0.5,0))+0.1*MIN(1,IFERROR(F20/20,0))+0.15*IF(TRIM(I20)="高",1,IF(TRIM(I20)="中",0.5,0))+0.15*(1-IF(TRIM(J20)="高",1,IF(TRIM(J20)="中",0.5,0)))),0) | W20: =IF(G20="高",IF(H20<>"低","GAS",IF(I20="高","NotebookLM","Gem")),IF(I20="高","NotebookLM","Gem")) | X20: =IF(W20="Gem",0.4,IF(W20="NotebookLM",0.5,IF(W20="GAS",0.7,IF(W20="Microsoft Copilot",0.4,IF(W20="Microsoft 365 AI",0.4,IF(W20="Power Automate",0.7,IF(W20="Power Apps",0.6,IF(W20="ChatGPT",0.5,IF(W20="Claude",0.5,IF(W20="Gemini",0.5,IF(W20="Dify",0.6,IF(W20="n8n",0.7,IF(W20="Make",0.7,IF(W20="Zapier",0.7,IF(W20="その他",0.5,0.5))))))))))))))) | Y20: =IFERROR(U20*(1-X20),"") | Z20: =IFERROR(U20-Y20,"") | AA20: =IF(AND(P20>0,Q20>=0),P20-Q20,"") | AB20: =IF(P20>0,(P20-Q20)/P20,"")
A21: =IF('簡易入力モード'!A21<>"",'簡易入力モード'!A21,"") | C21: =IF('簡易入力モード'!B21<>"",'簡易入力モード'!B21,"") | D21: =IF('簡易入力モード'!C21<>"",'簡易入力モード'!C21,"") | R21: =IF('簡易入力モード'!E21<>"",'簡易入力モード'!E21,"") | U21: =IFERROR(C21*(D21+E21),"") | V21: =ROUND(100*(0.2*MIN(1,IFERROR(C21/20,0))+0.15*MIN(1,IFERROR(E21/30,0))+0.2*IF(TRIM(G21)="高",1,IF(TRIM(G21)="中",0.5,0))+0.15*IF(TRIM(H21)="高",1,IF(TRIM(H21)="中",0.5,0))+0.1*MIN(1,IFERROR(F21/20,0))+0.15*IF(TRIM(I21)="高",1,IF(TRIM(I21)="中",0.5,0))+0.15*(1-IF(TRIM(J21)="高",1,IF(TRIM(J21)="中",0.5,0)))),0) | W21: =IF(G21="高",IF(H21<>"低","GAS",IF(I21="高","NotebookLM","Gem")),IF(I21="高","NotebookLM","Gem")) | X21: =IF(W21="Gem",0.4,IF(W21="NotebookLM",0.5,IF(W21="GAS",0.7,IF(W21="Microsoft Copilot",0.4,IF(W21="Microsoft 365 AI",0.4,IF(W21="Power Automate",0.7,IF(W21="Power Apps",0.6,IF(W21="ChatGPT",0.5,IF(W21="Claude",0.5,IF(W21="Gemini",0.5,IF(W21="Dify",0.6,IF(W21="n8n",0.7,IF(W21="Make",0.7,IF(W21="Zapier",0.7,IF(W21="その他",0.5,0.5))))))))))))))) | Y21: =IFERROR(U21*(1-X21),"") | Z21: =IFERROR(U21-Y21,"") | AA21: =IF(AND(P21>0,Q21>=0),P21-Q21,"") | AB21: =IF(P21>0,(P21-Q21)/P21,"")
A22: =IF('簡易入力モード'!A22<>"",'簡易入力モード'!A22,"") | C22: =IF('簡易入力モード'!B22<>"",'簡易入力モード'!B22,"") | D22: =IF('簡易入力モード'!C22<>"",'簡易入力モード'!C22,"") | R22: =IF('簡易入力モード'!E22<>"",'簡易入力モード'!E22,"") | U22: =IFERROR(C22*(D22+E22),"") | V22: =ROUND(100*(0.2*MIN(1,IFERROR(C22/20,0))+0.15*MIN(1,IFERROR(E22/30,0))+0.2*IF(TRIM(G22)="高",1,IF(TRIM(G22)="中",0.5,0))+0.15*IF(TRIM(H22)="高",1,IF(TRIM(H22)="中",0.5,0))+0.1*MIN(1,IFERROR(F22/20,0))+0.15*IF(TRIM(I22)="高",1,IF(TRIM(I22)="中",0.5,0))+0.15*(1-IF(TRIM(J22)="高",1,IF(TRIM(J22)="中",0.5,0)))),0) | W22: =IF(G22="高",IF(H22<>"低","GAS",IF(I22="高","NotebookLM","Gem")),IF(I22="高","NotebookLM","Gem")) | X22: =IF(W22="Gem",0.4,IF(W22="NotebookLM",0.5,IF(W22="GAS",0.7,IF(W22="Microsoft Copilot",0.4,IF(W22="Microsoft 365 AI",0.4,IF(W22="Power Automate",0.7,IF(W22="Power Apps",0.6,IF(W22="ChatGPT",0.5,IF(W22="Claude",0.5,IF(W22="Gemini",0.5,IF(W22="Dify",0.6,IF(W22="n8n",0.7,IF(W22="Make",0.7,IF(W22="Zapier",0.7,IF(W22="その他",0.5,0.5))))))))))))))) | Y22: =IFERROR(U22*(1-X22),"") | Z22: =IFERROR(U22-Y22,"") | AA22: =IF(AND(P22>0,Q22>=0),P22-Q22,"") | AB22: =IF(P22>0,(P22-Q22)/P22,"")
A23: =IF('簡易入力モード'!A23<>"",'簡易入力モード'!A23,"") | C23: =IF('簡易入力モード'!B23<>"",'簡易入力モード'!B23,"") | D23: =IF('簡易入力モード'!C23<>"",'簡易入力モード'!C23,"") | R23: =IF('簡易入力モード'!E23<>"",'簡易入力モード'!E23,"") | U23: =IFERROR(C23*(D23+E23),"") | V23: =ROUND(100*(0.2*MIN(1,IFERROR(C23/20,0))+0.15*MIN(1,IFERROR(E23/30,0))+0.2*IF(TRIM(G23)="高",1,IF(TRIM(G23)="中",0.5,0))+0.15*IF(TRIM(H23)="高",1,IF(TRIM(H23)="中",0.5,0))+0.1*MIN(1,IFERROR(F23/20,0))+0.15*IF(TRIM(I23)="高",1,IF(TRIM(I23)="中",0.5,0))+0.15*(1-IF(TRIM(J23)="高",1,IF(TRIM(J23)="中",0.5,0)))),0) | W23: =IF(G23="高",IF(H23<>"低","GAS",IF(I23="高","NotebookLM","Gem")),IF(I23="高","NotebookLM","Gem")) | X23: =IF(W23="Gem",0.4,IF(W23="NotebookLM",0.5,IF(W23="GAS",0.7,IF(W23="Microsoft Copilot",0.4,IF(W23="Microsoft 365 AI",0.4,IF(W23="Power Automate",0.7,IF(W23="Power Apps",0.6,IF(W23="ChatGPT",0.5,IF(W23="Claude",0.5,IF(W23="Gemini",0.5,IF(W23="Dify",0.6,IF(W23="n8n",0.7,IF(W23="Make",0.7,IF(W23="Zapier",0.7,IF(W23="その他",0.5,0.5))))))))))))))) | Y23: =IFERROR(U23*(1-X23),"") | Z23: =IFERROR(U23-Y23,"") | AA23: =IF(AND(P23>0,Q23>=0),P23-Q23,"") | AB23: =IF(P23>0,(P23-Q23)/P23,"")
A24: =IF('簡易入力モード'!A24<>"",'簡易入力モード'!A24,"") | C24: =IF('簡易入力モード'!B24<>"",'簡易入力モード'!B24,"") | D24: =IF('簡易入力モード'!C24<>"",'簡易入力モード'!C24,"") | R24: =IF('簡易入力モード'!E24<>"",'簡易入力モード'!E24,"") | U24: =IFERROR(C24*(D24+E24),"") | V24: =ROUND(100*(0.2*MIN(1,IFERROR(C24/20,0))+0.15*MIN(1,IFERROR(E24/30,0))+0.2*IF(TRIM(G24)="高",1,IF(TRIM(G24)="中",0.5,0))+0.15*IF(TRIM(H24)="高",1,IF(TRIM(H24)="中",0.5,0))+0.1*MIN(1,IFERROR(F24/20,0))+0.15*IF(TRIM(I24)="高",1,IF(TRIM(I24)="中",0.5,0))+0.15*(1-IF(TRIM(J24)="高",1,IF(TRIM(J24)="中",0.5,0)))),0) | W24: =IF(G24="高",IF(H24<>"低","GAS",IF(I24="高","NotebookLM","Gem")),IF(I24="高","NotebookLM","Gem")) | X24: =IF(W24="Gem",0.4,IF(W24="NotebookLM",0.5,IF(W24="GAS",0.7,IF(W24="Microsoft Copilot",0.4,IF(W24="Microsoft 365 AI",0.4,IF(W24="Power Automate",0.7,IF(W24="Power Apps",0.6,IF(W24="ChatGPT",0.5,IF(W24="Claude",0.5,IF(W24="Gemini",0.5,IF(W24="Dify",0.6,IF(W24="n8n",0.7,IF(W24="Make",0.7,IF(W24="Zapier",0.7,IF(W24="その他",0.5,0.5))))))))))))))) | Y24: =IFERROR(U24*(1-X24),"") | Z24: =IFERROR(U24-Y24,"") | AA24: =IF(AND(P24>0,Q24>=0),P24-Q24,"") | AB24: =IF(P24>0,(P24-Q24)/P24,"")
A25: =IF('簡易入力モード'!A25<>"",'簡易入力モード'!A25,"") | C25: =IF('簡易入力モード'!B25<>"",'簡易入力モード'!B25,"") | D25: =IF('簡易入力モード'!C25<>"",'簡易入力モード'!C25,"") | R25: =IF('簡易入力モード'!E25<>"",'簡易入力モード'!E25,"") | U25: =IFERROR(C25*(D25+E25),"") | V25: =ROUND(100*(0.2*MIN(1,IFERROR(C25/20,0))+0.15*MIN(1,IFERROR(E25/30,0))+0.2*IF(TRIM(G25)="高",1,IF(TRIM(G25)="中",0.5,0))+0.15*IF(TRIM(H25)="高",1,IF(TRIM(H25)="中",0.5,0))+0.1*MIN(1,IFERROR(F25/20,0))+0.15*IF(TRIM(I25)="高",1,IF(TRIM(I25)="中",0.5,0))+0.15*(1-IF(TRIM(J25)="高",1,IF(TRIM(J25)="中",0.5,0)))),0) | W25: =IF(G25="高",IF(H25<>"低","GAS",IF(I25="高","NotebookLM","Gem")),IF(I25="高","NotebookLM","Gem")) | X25: =IF(W25="Gem",0.4,IF(W25="NotebookLM",0.5,IF(W25="GAS",0.7,IF(W25="Microsoft Copilot",0.4,IF(W25="Microsoft 365 AI",0.4,IF(W25="Power Automate",0.7,IF(W25="Power Apps",0.6,IF(W25="ChatGPT",0.5,IF(W25="Claude",0.5,IF(W25="Gemini",0.5,IF(W25="Dify",0.6,IF(W25="n8n",0.7,IF(W25="Make",0.7,IF(W25="Zapier",0.7,IF(W25="その他",0.5,0.5))))))))))))))) | Y25: =IFERROR(U25*(1-X25),"") | Z25: =IFERROR(U25-Y25,"") | AA25: =IF(AND(P25>0,Q25>=0),P25-Q25,"") | AB25: =IF(P25>0,(P25-Q25)/P25,"")
A26: =IF('簡易入力モード'!A26<>"",'簡易入力モード'!A26,"") | C26: =IF('簡易入力モード'!B26<>"",'簡易入力モード'!B26,"") | D26: =IF('簡易入力モード'!C26<>"",'簡易入力モード'!C26,"") | R26: =IF('簡易入力モード'!E26<>"",'簡易入力モード'!E26,"") | U26: =IFERROR(C26*(D26+E26),"") | V26: =ROUND(100*(0.2*MIN(1,IFERROR(C26/20,0))+0.15*MIN(1,IFERROR(E26/30,0))+0.2*IF(TRIM(G26)="高",1,IF(TRIM(G26)="中",0.5,0))+0.15*IF(TRIM(H26)="高",1,IF(TRIM(H26)="中",0.5,0))+0.1*MIN(1,IFERROR(F26/20,0))+0.15*IF(TRIM(I26)="高",1,IF(TRIM(I26)="中",0.5,0))+0.15*(1-IF(TRIM(J26)="高",1,IF(TRIM(J26)="中",0.5,0)))),0) | W26: =IF(G26="高",IF(H26<>"低","GAS",IF(I26="高","NotebookLM","Gem")),IF(I26="高","NotebookLM","Gem")) | X26: =IF(W26="Gem",0.4,IF(W26="NotebookLM",0.5,IF(W26="GAS",0.7,IF(W26="Microsoft Copilot",0.4,IF(W26="Microsoft 365 AI",0.4,IF(W26="Power Automate",0.7,IF(W26="Power Apps",0.6,IF(W26="ChatGPT",0.5,IF(W26="Claude",0.5,IF(W26="Gemini",0.5,IF(W26="Dify",0.6,IF(W26="n8n",0.7,IF(W26="Make",0.7,IF(W26="Zapier",0.7,IF(W26="その他",0.5,0.5))))))))))))))) | Y26: =IFERROR(U26*(1-X26),"") | Z26: =IFERROR(U26-Y26,"") | AA26: =IF(AND(P26>0,Q26>=0),P26-Q26,"") | AB26: =IF(P26>0,(P26-Q26)/P26,"")
A27: =IF('簡易入力モード'!A27<>"",'簡易入力モード'!A27,"") | C27: =IF('簡易入力モード'!B27<>"",'簡易入力モード'!B27,"") | D27: =IF('簡易入力モード'!C27<>"",'簡易入力モード'!C27,"") | R27: =IF('簡易入力モード'!E27<>"",'簡易入力モード'!E27,"") | U27: =IFERROR(C27*(D27+E27),"") | V27: =ROUND(100*(0.2*MIN(1,IFERROR(C27/20,0))+0.15*MIN(1,IFERROR(E27/30,0))+0.2*IF(TRIM(G27)="高",1,IF(TRIM(G27)="中",0.5,0))+0.15*IF(TRIM(H27)="高",1,IF(TRIM(H27)="中",0.5,0))+0.1*MIN(1,IFERROR(F27/20,0))+0.15*IF(TRIM(I27)="高",1,IF(TRIM(I27)="中",0.5,0))+0.15*(1-IF(TRIM(J27)="高",1,IF(TRIM(J27)="中",0.5,0)))),0) | W27: =IF(G27="高",IF(H27<>"低","GAS",IF(I27="高","NotebookLM","Gem")),IF(I27="高","NotebookLM","Gem")) | X27: =IF(W27="Gem",0.4,IF(W27="NotebookLM",0.5,IF(W27="GAS",0.7,IF(W27="Microsoft Copilot",0.4,IF(W27="Microsoft 365 AI",0.4,IF(W27="Power Automate",0.7,IF(W27="Power Apps",0.6,IF(W27="ChatGPT",0.5,IF(W27="Claude",0.5,IF(W27="Gemini",0.5,IF(W27="Dify",0.6,IF(W27="n8n",0.7,IF(W27="Make",0.7,IF(W27="Zapier",0.7,IF(W27="その他",0.5,0.5))))))))))))))) | Y27: =IFERROR(U27*(1-X27),"") | Z27: =IFERROR(U27-Y27,"") | AA27: =IF(AND(P27>0,Q27>=0),P27-Q27,"") | AB27: =IF(P27>0,(P27-Q27)/P27,"")
A28: =IF('簡易入力モード'!A28<>"",'簡易入力モード'!A28,"") | C28: =IF('簡易入力モード'!B28<>"",'簡易入力モード'!B28,"") | D28: =IF('簡易入力モード'!C28<>"",'簡易入力モード'!C28,"") | R28: =IF('簡易入力モード'!E28<>"",'簡易入力モード'!E28,"") | U28: =IFERROR(C28*(D28+E28),"") | V28: =ROUND(100*(0.2*MIN(1,IFERROR(C28/20,0))+0.15*MIN(1,IFERROR(E28/30,0))+0.2*IF(TRIM(G28)="高",1,IF(TRIM(G28)="中",0.5,0))+0.15*IF(TRIM(H28)="高",1,IF(TRIM(H28)="中",0.5,0))+0.1*MIN(1,IFERROR(F28/20,0))+0.15*IF(TRIM(I28)="高",1,IF(TRIM(I28)="中",0.5,0))+0.15*(1-IF(TRIM(J28)="高",1,IF(TRIM(J28)="中",0.5,0)))),0) | W28: =IF(G28="高",IF(H28<>"低","GAS",IF(I28="高","NotebookLM","Gem")),IF(I28="高","NotebookLM","Gem")) | X28: =IF(W28="Gem",0.4,IF(W28="NotebookLM",0.5,IF(W28="GAS",0.7,IF(W28="Microsoft Copilot",0.4,IF(W28="Microsoft 365 AI",0.4,IF(W28="Power Automate",0.7,IF(W28="Power Apps",0.6,IF(W28="ChatGPT",0.5,IF(W28="Claude",0.5,IF(W28="Gemini",0.5,IF(W28="Dify",0.6,IF(W28="n8n",0.7,IF(W28="Make",0.7,IF(W28="Zapier",0.7,IF(W28="その他",0.5,0.5))))))))))))))) | Y28: =IFERROR(U28*(1-X28),"") | Z28: =IFERROR(U28-Y28,"") | AA28: =IF(AND(P28>0,Q28>=0),P28-Q28,"") | AB28: =IF(P28>0,(P28-Q28)/P28,"")
... A502: =IF('簡易入力モード'!A502<>"",'簡易入力モード'!A502,"") | C502: =IF('簡易入力モード'!B502<>"",'簡易入力モード'!B502,"") | D502: =IF('簡易入力モード'!C502<>"",'簡易入力モード'!C502,"") | R502: =IF('簡易入力モード'!E502<>"",'簡易入力モード'!E502,"") | U502: =IFERROR(C502*(D502+E502),"") | V502: =ROUND(100*(0.2*MIN(1,IFERROR(C502/20,0))+0.15*MIN(1,IFERROR(E502/30,0))+0.2*IF(TRIM(G502)="高",1,IF(TRIM(G502)="中",0.5,0))+0.15*IF(TRIM(H502)="高",1,IF(TRIM(H502)="中",0.5,0))+0.1*MIN(1,IFERROR(F502/20,0))+0.15*IF(TRIM(I502)="高",1,IF(TRIM(I502)="中",0.5,0))+0.15*(1-IF(TRIM(J502)="高",1,IF(TRIM(J502)="中",0.5,0)))),0) | W502: =IF(G502="高",IF(H502<>"低","GAS",IF(I502="高","NotebookLM","Gem")),IF(I502="高","NotebookLM","Gem")) | X502: =IF(W502="Gem",0.4,IF(W502="NotebookLM",0.5,IF(W502="GAS",0.7,IF(W502="Microsoft Copilot",0.4,IF(W502="Microsoft 365 AI",0.4,IF(W502="Power Automate",0.7,IF(W502="Power Apps",0.6,IF(W502="ChatGPT",0.5,IF(W502="Claude",0.5,IF(W502="Gemini",0.5,IF(W502="Dify",0.6,IF(W502="n8n",0.7,IF(W502="Make",0.7,IF(W502="Zapier",0.7,IF(W502="その他",0.5,0.5))))))))))))))) | Y502: =IFERROR(U502*(1-X502),"") | Z502: =IFERROR(U502-Y502,"") | AA502: =IF(AND(P502>0,Q502>=0),P502-Q502,"") | AB502: =IF(P502>0,(P502-Q502)/P502,"")

Sheet アクションプラン
A1: 対象業務 | B1: 実施内容 | C1: 使用ツール | D1: 目的 | E1: 実施期日 | F1: KPI | G1: 共有方法 | H1: 実行フラグ | I1: 優先度（高/中/低） | J1: ステータス（未着手/進行中/完了）
A2: 営業日報集計 | B2: Gemで日報を自動要約・集計するプロンプトを作成 | C2: Gem | D2: 週次集計時間を80%削減 | E2: 2025-09-30 | F2: 週報作成時間を200分→40分に短縮 | G2: チームチャットで共有 | H2: ◯ | I2: 高 | J2: 未着手
A3: ※以下は実行フラグ（◯）付き業務を自動抽出します。必要に応じて編集してください。
A4: =IF(1<=COUNTIF('詳細入力モード'!T3:T16,"◯"),INDEX('詳細入力モード'!A3:A16,SMALL(IF('詳細入力モード'!T3:T16="◯",ROW('詳細入力モード'!A3:A16)-ROW('詳細入力モード'!A3)+1),1)),"") | B4: =IF(1<=COUNTIF('詳細入力モード'!T3:T16,"◯"),INDEX('詳細入力モード'!S3:S16,SMALL(IF('詳細入力モード'!T3:T16="◯",ROW('詳細入力モード'!A3:A16)-ROW('詳細入力モード'!A3)+1),1)),"") | C4: =IF(1<=COUNTIF('詳細入力モード'!T3:T16,"◯"),INDEX('詳細入力モード'!W3:W16,SMALL(IF('詳細入力モード'!T3:T16="◯",ROW('詳細入力モード'!A3:A16)-ROW('詳細入力モード'!A3)+1),1)),"") | D4: =IF(1<=COUNTIF('詳細入力モード'!T3:T16,"◯"),INDEX('詳細入力モード'!R3:R16,SMALL(IF('詳細入力モード'!T3:T16="◯",ROW('詳細入力モード'!A3:A16)-ROW('詳細入力モード'!A3)+1),1)),"") | H4: =IF(1<=COUNTIF('詳細入力モード'!T3:T16,"◯"),INDEX('詳細入力モード'!T3:T16,SMALL(IF('詳細入力モード'!T3:T16="◯",ROW('詳細入力モード'!A3:A16)-ROW('詳細入力モード'!A3)+1),1)),"")
A5: =IF(2<=COUNTIF('詳細入力モード'!T3:T16,"◯"),INDEX('詳細入力モード'!A3:A16,SMALL(IF('詳細入力モード'!T3:T16="◯",ROW('詳細入力モード'!A3:A16)-ROW('詳細入力モード'!A3)+1),2)),"") | B5: =IF(2<=COUNTIF('詳細入力モード'!T3:T16,"◯"),INDEX('詳細入力モード'!S3:S16,SMALL(IF('詳細入力モード'!T3:T16="◯",ROW('詳細入力モード'!A3:A16)-ROW('詳細入力モード'!A3)+1),2)),"") | C5: =IF(2<=COUNTIF('詳細入力モード'!T3:T16,"◯"),INDEX('詳細入力モード'!W3:W16,SMALL(IF('詳細入力モード'!T3:T16="◯",ROW('詳細入力モード'!A3:A16)-ROW('詳細入力モード'!A3)+1),2)),"") | D5: =IF(2<=COUNTIF('詳細入力モード'!T3:T16,"◯"),INDEX('詳細入力モード'!R3:R16,SMALL(IF('詳細入力モード'!T3:T16="◯",ROW('詳細入力モード'!A3:A16)-ROW('詳細入力モード'!A3)+1),2)),"") | H5: =IF(2<=COUNTIF('詳細入力モード'!T3:T16,"◯"),INDEX('詳細入力モード'!T3:T16,SMALL(IF('詳細入力モード'!T3:T16="◯",ROW('詳細入力モード'!A3:A16)-ROW('詳細入力モード'!A3)+1),2)),"")
A6: =IF(3<=COUNTIF('詳細入力モード'!T3:T16,"◯"),INDEX('詳細入力モード'!A3:A16,SMALL(IF('詳細入力モード'!T3:T16="◯",ROW('詳細入力モード'!A3:A16)-ROW('詳細入力モード'!A3)+1),3)),"") | B6: =IF(3<=COUNTIF('詳細入力モード'!T3:T16,"◯"),INDEX('詳細入力モード'!S3:S16,SMALL(IF('詳細入力モード'!T3:T16="◯",ROW('詳細入力モード'!A3:A16)-ROW('詳細入力モード'!A3)+1),3)),"") | C6: =IF(3<=COUNTIF('詳細入力モード'!T3:T16,"◯"),INDEX('詳細入力モード'!W3:W16,SMALL(IF('詳細入力モード'!T3:T16="◯",ROW('詳細入力モード'!A3:A16)-ROW('詳細入力モード'!A3)+1),3)),"") | D6: =IF(3<=COUNTIF('詳細入力モード'!T3:T16,"◯"),INDEX('詳細入力モード'!R3:R16,SMALL(IF('詳細入力モード'!T3:T16="◯",ROW('詳細入力モード'!A3:A16)-ROW('詳細入力モード'!A3)+1),3)),"") | H6: =IF(3<=COUNTIF('詳細入力モード'!T3:T16,"◯"),INDEX('詳細入力モード'!T3:T16,SMALL(IF('詳細入力モード'!T3:T16="◯",ROW('詳細入力モード'!A3:A16)-ROW('詳細入力モード'!A3)+1),3)),"")
A7: =IF(4<=COUNTIF('詳細入力モード'!T3:T16,"◯"),INDEX('詳細入力モード'!A3:A16,SMALL(IF('詳細入力モード'!T3:T16="◯",ROW('詳細入力モード'!A3:A16)-ROW('詳細入力モード'!A3)+1),4)),"") | B7: =IF(4<=COUNTIF('詳細入力モード'!T3:T16,"◯"),INDEX('詳細入力モード'!S3:S16,SMALL(IF('詳細入力モード'!T3:T16="◯",ROW('詳細入力モード'!A3:A16)-ROW('詳細入力モード'!A3)+1),4)),"") | C7: =IF(4<=COUNTIF('詳細入力モード'!T3:T16,"◯"),INDEX('詳細入力モード'!W3:W16,SMALL(IF('詳細入力モード'!T3:T16="◯",ROW('詳細入力モード'!A3:A16)-ROW('詳細入力モード'!A3)+1),4)),"") | D7: =IF(4<=COUNTIF('詳細入力モード'!T3:T16,"◯"),INDEX('詳細入力モード'!R3:R16,SMALL(IF('詳細入力モード'!T3:T16="◯",ROW('詳細入力モード'!A3:A16)-ROW('詳細入力モード'!A3)+1),4)),"") | H7: =IF(4<=COUNTIF('詳細入力モード'!T3:T16,"◯"),INDEX('詳細入力モード'!T3:T16,SMALL(IF('詳細入力モード'!T3:T16="◯",ROW('詳細入力モード'!A3:A16)-ROW('詳細入力モード'!A3)+1),4)),"")
A8: =IF(5<=COUNTIF('詳細入力モード'!T3:T16,"◯"),INDEX('詳細入力モード'!A3:A16,SMALL(IF('詳細入力モード'!T3:T16="◯",ROW('詳細入力モード'!A3:A16)-ROW('詳細入力モード'!A3)+1),5)),"") | B8: =IF(5<=COUNTIF('詳細入力モード'!T3:T16,"◯"),INDEX('詳細入力モード'!S3:S16,SMALL(IF('詳細入力モード'!T3:T16="◯",ROW('詳細入力モード'!A3:A16)-ROW('詳細入力モード'!A3)+1),5)),"") | C8: =IF(5<=COUNTIF('詳細入力モード'!T3:T16,"◯"),INDEX('詳細入力モード'!W3:W16,SMALL(IF('詳細入力モード'!T3:T16="◯",ROW('詳細入力モード'!A3:A16)-ROW('詳細入力モード'!A3)+1),5)),"") | D8: =IF(5<=COUNTIF('詳細入力モード'!T3:T16,"◯"),INDEX('詳細入力モード'!R3:R16,SMALL(IF('詳細入力モード'!T3:T16="◯",ROW('詳細入力モード'!A3:A16)-ROW('詳細入力モード'!A3)+1),5)),"") | H8: =IF(5<=COUNTIF('詳細入力モード'!T3:T16,"◯"),INDEX('詳細入力モード'!T3:T16,SMALL(IF('詳細入力モード'!T3:T16="◯",ROW('詳細入力モード'!A3:A16)-ROW('詳細入力モード'!A3)+1),5)),"")
A9: =IF(6<=COUNTIF('詳細入力モード'!T3:T16,"◯"),INDEX('詳細入力モード'!A3:A16,SMALL(IF('詳細入力モード'!T3:T16="◯",ROW('詳細入力モード'!A3:A16)-ROW('詳細入力モード'!A3)+1),6)),"") | B9: =IF(6<=COUNTIF('詳細入力モード'!T3:T16,"◯"),INDEX('詳細入力モード'!S3:S16,SMALL(IF('詳細入力モード'!T3:T16="◯",ROW('詳細入力モード'!A3:A16)-ROW('詳細入力モード'!A3)+1),6)),"") | C9: =IF(6<=COUNTIF('詳細入力モード'!T3:T16,"◯"),INDEX('詳細入力モード'!W3:W16,SMALL(IF('詳細入力モード'!T3:T16="◯",ROW('詳細入力モード'!A3:A16)-ROW('詳細入力モード'!A3)+1),6)),"") | D9: =IF(6<=COUNTIF('詳細入力モード'!T3:T16,"◯"),INDEX('詳細入力モード'!R3:R16,SMALL(IF('詳細入力モード'!T3:T16="◯",ROW('詳細入力モード'!A3:A16)-ROW('詳細入力モード'!A3)+1),6)),"") | H9: =IF(6<=COUNTIF('詳細入力モード'!T3:T16,"◯"),INDEX('詳細入力モード'!T3:T16,SMALL(IF('詳細入力モード'!T3:T16="◯",ROW('詳細入力モード'!A3:A16)-ROW('詳細入力モード'!A3)+1),6)),"")
A10: =IF(7<=COUNTIF('詳細入力モード'!T3:T16,"◯"),INDEX('詳細入力モード'!A3:A16,SMALL(IF('詳細入力モード'!T3:T16="◯",ROW('詳細入力モード'!A3:A16)-ROW('詳細入力モード'!A3)+1),7)),"") | B10: =IF(7<=COUNTIF('詳細入力モード'!T3:T16,"◯"),INDEX('詳細入力モード'!S3:S16,SMALL(IF('詳細入力モード'!T3:T16="◯",ROW('詳細入力モード'!A3:A16)-ROW('詳細入力モード'!A3)+1),7)),"") | C10: =IF(7<=COUNTIF('詳細入力モード'!T3:T16,"◯"),INDEX('詳細入力モード'!W3:W16,SMALL(IF('詳細入力モード'!T3:T16="◯",ROW('詳細入力モード'!A3:A16)-ROW('詳細入力モード'!A3)+1),7)),"") | D10: =IF(7<=COUNTIF('詳細入力モード'!T3:T16,"◯"),INDEX('詳細入力モード'!R3:R16,SMALL(IF('詳細入力モード'!T3:T16="◯",ROW('詳細入力モード'!A3:A16)-ROW('詳細入力モード'!A3)+1),7)),"") | H10: =IF(7<=COUNTIF('詳細入力モード'!T3:T16,"◯"),INDEX('詳細入力モード'!T3:T16,SMALL(IF('詳細入力モード'!T3:T16="◯",ROW('詳細入力モード'!A3:A16)-ROW('詳細入力モード'!A3)+1),7)),"")
A11: =IF(8<=COUNTIF('詳細入力モード'!T3:T16,"◯"),INDEX('詳細入力モード'!A3:A16,SMALL(IF('詳細入力モード'!T3:T16="◯",ROW('詳細入力モード'!A3:A16)-ROW('詳細入力モード'!A3)+1),8)),"") | B11: =IF(8<=COUNTIF('詳細入力モード'!T3:T16,"◯"),INDEX('詳細入力モード'!S3:S16,SMALL(IF('詳細入力モード'!T3:T16="◯",ROW('詳細入力モード'!A3:A16)-ROW('詳細入力モード'!A3)+1),8)),"") | C11: =IF(8<=COUNTIF('詳細入力モード'!T3:T16,"◯"),INDEX('詳細入力モード'!W3:W16,SMALL(IF('詳細入力モード'!T3:T16="◯",ROW('詳細入力モード'!A3:A16)-ROW('詳細入力モード'!A3)+1),8)),"") | D11: =IF(8<=COUNTIF('詳細入力モード'!T3:T16,"◯"),INDEX('詳細入力モード'!R3:R16,SMALL(IF('詳細入力モード'!T3:T16="◯",ROW('詳細入力モード'!A3:A16)-ROW('詳細入力モード'!A3)+1),8)),"") | H11: =IF(8<=COUNTIF('詳細入力モード'!T3:T16,"◯"),INDEX('詳細入力モード'!T3:T16,SMALL(IF('詳細入力モード'!T3:T16="◯",ROW('詳細入力モード'!A3:A16)-ROW('詳細入力モード'!A3)+1),8)),"")
A12: =IF(9<=COUNTIF('詳細入力モード'!T3:T16,"◯"),INDEX('詳細入力モード'!A3:A16,SMALL(IF('詳細入力モード'!T3:T16="◯",ROW('詳細入力モード'!A3:A16)-ROW('詳細入力モード'!A3)+1),9)),"") | B12: =IF(9<=COUNTIF('詳細入力モード'!T3:T16,"◯"),INDEX('詳細入力モード'!S3:S16,SMALL(IF('詳細入力モード'!T3:T16="◯",ROW('詳細入力モード'!A3:A16)-ROW('詳細入力モード'!A3)+1),9)),"") | C12: =IF(9<=COUNTIF('詳細入力モード'!T3:T16,"◯"),INDEX('詳細入力モード'!W3:W16,SMALL(IF('詳細入力モード'!T3:T16="◯",ROW('詳細入力モード'!A3:A16)-ROW('詳細入力モード'!A3)+1),9)),"") | D12: =IF(9<=COUNTIF('詳細入力モード'!T3:T16,"◯"),INDEX('詳細入力モード'!R3:R16,SMALL(IF('詳細入力モード'!T3:T16="◯",ROW('詳細入力モード'!A3:A16)-ROW('詳細入力モード'!A3)+1),9)),"") | H12: =IF(9<=COUNTIF('詳細入力モード'!T3:T16,"◯"),INDEX('詳細入力モード'!T3:T16,SMALL(IF('詳細入力モード'!T3:T16="◯",ROW('詳細入力モード'!A3:A16)-ROW('詳細入力モード'!A3)+1),9)),"")
A13: =IF(10<=COUNTIF('詳細入力モード'!T3:T16,"◯"),INDEX('詳細入力モード'!A3:A16,SMALL(IF('詳細入力モード'!T3:T16="◯",ROW('詳細入力モード'!A3:A16)-ROW('詳細入力モード'!A3)+1),10)),"") | B13: =IF(10<=COUNTIF('詳細入力モード'!T3:T16,"◯"),INDEX('詳細入力モード'!S3:S16,SMALL(IF('詳細入力モード'!T3:T16="◯",ROW('詳細入力モード'!A3:A16)-ROW('詳細入力モード'!A3)+1),10)),"") | C13: =IF(10<=COUNTIF('詳細入力モード'!T3:T16,"◯"),INDEX('詳細入力モード'!W3:W16,SMALL(IF('詳細入力モード'!T3:T16="◯",ROW('詳細入力モード'!A3:A16)-ROW('詳細入力モード'!A3)+1),10)),"") | D13: =IF(10<=COUNTIF('詳細入力モード'!T3:T16,"◯"),INDEX('詳細入力モード'!R3:R16,SMALL(IF('詳細入力モード'!T3:T16="◯",ROW('詳細入力モード'!A3:A16)-ROW('詳細入力モード'!A3)+1),10)),"") | H13: =IF(10<=COUNTIF('詳細入力モード'!T3:T16,"◯"),INDEX('詳細入力モード'!T3:T16,SMALL(IF('詳細入力モード'!T3:T16="◯",ROW('詳細入力モード'!A3:A16)-ROW('詳細入力モード'!A3)+1),10)),"")
A14: =IF(11<=COUNTIF('詳細入力モード'!T3:T16,"◯"),INDEX('詳細入力モード'!A3:A16,SMALL(IF('詳細入力モード'!T3:T16="◯",ROW('詳細入力モード'!A3:A16)-ROW('詳細入力モード'!A3)+1),11)),"") | B14: =IF(11<=COUNTIF('詳細入力モード'!T3:T16,"◯"),INDEX('詳細入力モード'!S3:S16,SMALL(IF('詳細入力モード'!T3:T16="◯",ROW('詳細入力モード'!A3:A16)-ROW('詳細入力モード'!A3)+1),11)),"") | C14: =IF(11<=COUNTIF('詳細入力モード'!T3:T16,"◯"),INDEX('詳細入力モード'!W3:W16,SMALL(IF('詳細入力モード'!T3:T16="◯",ROW('詳細入力モード'!A3:A16)-ROW('詳細入力モード'!A3)+1),11)),"") | D14: =IF(11<=COUNTIF('詳細入力モード'!T3:T16,"◯"),INDEX('詳細入力モード'!R3:R16,SMALL(IF('詳細入力モード'!T3:T16="◯",ROW('詳細入力モード'!A3:A16)-ROW('詳細入力モード'!A3)+1),11)),"") | H14: =IF(11<=COUNTIF('詳細入力モード'!T3:T16,"◯"),INDEX('詳細入力モード'!T3:T16,SMALL(IF('詳細入力モード'!T3:T16="◯",ROW('詳細入力モード'!A3:A16)-ROW('詳細入力モード'!A3)+1),11)),"")
A15: =IF(12<=COUNTIF('詳細入力モード'!T3:T16,"◯"),INDEX('詳細入力モード'!A3:A16,SMALL(IF('詳細入力モード'!T3:T16="◯",ROW('詳細入力モード'!A3:A16)-ROW('詳細入力モード'!A3)+1),12)),"") | B15: =IF(12<=COUNTIF('詳細入力モード'!T3:T16,"◯"),INDEX('詳細入力モード'!S3:S16,SMALL(IF('詳細入力モード'!T3:T16="◯",ROW('詳細入力モード'!A3:A16)-ROW('詳細入力モード'!A3)+1),12)),"") | C15: =IF(12<=COUNTIF('詳細入力モード'!T3:T16,"◯"),INDEX('詳細入力モード'!W3:W16,SMALL(IF('詳細入力モード'!T3:T16="◯",ROW('詳細入力モード'!A3:A16)-ROW('詳細入力モード'!A3)+1),12)),"") | D15: =IF(12<=COUNTIF('詳細入力モード'!T3:T16,"◯"),INDEX('詳細入力モード'!R3:R16,SMALL(IF('詳細入力モード'!T3:T16="◯",ROW('詳細入力モード'!A3:A16)-ROW('詳細入力モード'!A3)+1),12)),"") | H15: =IF(12<=COUNTIF('詳細入力モード'!T3:T16,"◯"),INDEX('詳細入力モード'!T3:T16,SMALL(IF('詳細入力モード'!T3:T16="◯",ROW('詳細入力モード'!A3:A16)-ROW('詳細入力モード'!A3)+1),12)),"")
A16: =IF(13<=COUNTIF('詳細入力モード'!T3:T16,"◯"),INDEX('詳細入力モード'!A3:A16,SMALL(IF('詳細入力モード'!T3:T16="◯",ROW('詳細入力モード'!A3:A16)-ROW('詳細入力モード'!A3)+1),13)),"") | B16: =IF(13<=COUNTIF('詳細入力モード'!T3:T16,"◯"),INDEX('詳細入力モード'!S3:S16,SMALL(IF('詳細入力モード'!T3:T16="◯",ROW('詳細入力モード'!A3:A16)-ROW('詳細入力モード'!A3)+1),13)),"") | C16: =IF(13<=COUNTIF('詳細入力モード'!T3:T16,"◯"),INDEX('詳細入力モード'!W3:W16,SMALL(IF('詳細入力モード'!T3:T16="◯",ROW('詳細入力モード'!A3:A16)-ROW('詳細入力モード'!A3)+1),13)),"") | D16: =IF(13<=COUNTIF('詳細入力モード'!T3:T16,"◯"),INDEX('詳細入力モード'!R3:R16,SMALL(IF('詳細入力モード'!T3:T16="◯",ROW('詳細入力モード'!A3:A16)-ROW('詳細入力モード'!A3)+1),13)),"") | H16: =IF(13<=COUNTIF('詳細入力モード'!T3:T16,"◯"),INDEX('詳細入力モード'!T3:T16,SMALL(IF('詳細入力モード'!T3:T16="◯",ROW('詳細入力モード'!A3:A16)-ROW('詳細入力モード'!A3)+1),13)),"")
A17: =IF(14<=COUNTIF('詳細入力モード'!T3:T16,"◯"),INDEX('詳細入力モード'!A3:A16,SMALL(IF('詳細入力モード'!T3:T16="◯",ROW('詳細入力モード'!A3:A16)-ROW('詳細入力モード'!A3)+1),14)),"") | B17: =IF(14<=COUNTIF('詳細入力モード'!T3:T16,"◯"),INDEX('詳細入力モード'!S3:S16,SMALL(IF('詳細入力モード'!T3:T16="◯",ROW('詳細入力モード'!A3:A16)-ROW('詳細入力モード'!A3)+1),14)),"") | C17: =IF(14<=COUNTIF('詳細入力モード'!T3:T16,"◯"),INDEX('詳細入力モード'!W3:W16,SMALL(IF('詳細入力モード'!T3:T16="◯",ROW('詳細入力モード'!A3:A16)-ROW('詳細入力モード'!A3)+1),14)),"") | D17: =IF(14<=COUNTIF('詳細入力モード'!T3:T16,"◯"),INDEX('詳細入力モード'!R3:R16,SMALL(IF('詳細入力モード'!T3:T16="◯",ROW('詳細入力モード'!A3:A16)-ROW('詳細入力モード'!A3)+1),14)),"") | H17: =IF(14<=COUNTIF('詳細入力モード'!T3:T16,"◯"),INDEX('詳細入力モード'!T3:T16,SMALL(IF('詳細入力モード'!T3:T16="◯",ROW('詳細入力モード'!A3:A16)-ROW('詳細入力モード'!A3)+1),14)),"")
A18: =IF(15<=COUNTIF('詳細入力モード'!T3:T16,"◯"),INDEX('詳細入力モード'!A3:A16,SMALL(IF('詳細入力モード'!T3:T16="◯",ROW('詳細入力モード'!A3:A16)-ROW('詳細入力モード'!A3)+1),15)),"") | B18: =IF(15<=COUNTIF('詳細入力モード'!T3:T16,"◯"),INDEX('詳細入力モード'!S3:S16,SMALL(IF('詳細入力モード'!T3:T16="◯",ROW('詳細入力モード'!A3:A16)-ROW('詳細入力モード'!A3)+1),15)),"") | C18: =IF(15<=COUNTIF('詳細入力モード'!T3:T16,"◯"),INDEX('詳細入力モード'!W3:W16,SMALL(IF('詳細入力モード'!T3:T16="◯",ROW('詳細入力モード'!A3:A16)-ROW('詳細入力モード'!A3)+1),15)),"") | D18: =IF(15<=COUNTIF('詳細入力モード'!T3:T16,"◯"),INDEX('詳細入力モード'!R3:R16,SMALL(IF('詳細入力モード'!T3:T16="◯",ROW('詳細入力モード'!A3:A16)-ROW('詳細入力モード'!A3)+1),15)),"") | H18: =IF(15<=COUNTIF('詳細入力モード'!T3:T16,"◯"),INDEX('詳細入力モード'!T3:T16,SMALL(IF('詳細入力モード'!T3:T16="◯",ROW('詳細入力モード'!A3:A16)-ROW('詳細入力モード'!A3)+1),15)),"")
A19: =IF(16<=COUNTIF('詳細入力モード'!T3:T16,"◯"),INDEX('詳細入力モード'!A3:A16,SMALL(IF('詳細入力モード'!T3:T16="◯",ROW('詳細入力モード'!A3:A16)-ROW('詳細入力モード'!A3)+1),16)),"") | B19: =IF(16<=COUNTIF('詳細入力モード'!T3:T16,"◯"),INDEX('詳細入力モード'!S3:S16,SMALL(IF('詳細入力モード'!T3:T16="◯",ROW('詳細入力モード'!A3:A16)-ROW('詳細入力モード'!A3)+1),16)),"") | C19: =IF(16<=COUNTIF('詳細入力モード'!T3:T16,"◯"),INDEX('詳細入力モード'!W3:W16,SMALL(IF('詳細入力モード'!T3:T16="◯",ROW('詳細入力モード'!A3:A16)-ROW('詳細入力モード'!A3)+1),16)),"") | D19: =IF(16<=COUNTIF('詳細入力モード'!T3:T16,"◯"),INDEX('詳細入力モード'!R3:R16,SMALL(IF('詳細入力モード'!T3:T16="◯",ROW('詳細入力モード'!A3:A16)-ROW('詳細入力モード'!A3)+1),16)),"") | H19: =IF(16<=COUNTIF('詳細入力モード'!T3:T16,"◯"),INDEX('詳細入力モード'!T3:T16,SMALL(IF('詳細入力モード'!T3:T16="◯",ROW('詳細入力モード'!A3:A16)-ROW('詳細入力モード'!A3)+1),16)),"")
A20: =IF('詳細入力モード'!T19="◯",'詳細入力モード'!A19,"") | B20: =IF('詳細入力モード'!T19="◯",'詳細入力モード'!S19,"") | C20: =IF('詳細入力モード'!T19="◯",'詳細入力モード'!W19,"") | D20: =IF('詳細入力モード'!T19="◯",'詳細入力モード'!R19,"") | H20: =IF('詳細入力モード'!AB19="◯",'詳細入力モード'!AB19,"")
A21: =IF('詳細入力モード'!T20="◯",'詳細入力モード'!A20,"") | B21: =IF('詳細入力モード'!T20="◯",'詳細入力モード'!S20,"") | C21: =IF('詳細入力モード'!T20="◯",'詳細入力モード'!W20,"") | D21: =IF('詳細入力モード'!T20="◯",'詳細入力モード'!R20,"") | H21: =IF('詳細入力モード'!AB20="◯",'詳細入力モード'!AB20,"")
A22: =IF('詳細入力モード'!T21="◯",'詳細入力モード'!A21,"") | B22: =IF('詳細入力モード'!T21="◯",'詳細入力モード'!S21,"") | C22: =IF('詳細入力モード'!T21="◯",'詳細入力モード'!W21,"") | D22: =IF('詳細入力モード'!T21="◯",'詳細入力モード'!R21,"") | H22: =IF('詳細入力モード'!AB21="◯",'詳細入力モード'!AB21,"")
A23: =IF('詳細入力モード'!T22="◯",'詳細入力モード'!A22,"") | B23: =IF('詳細入力モード'!T22="◯",'詳細入力モード'!S22,"") | C23: =IF('詳細入力モード'!T22="◯",'詳細入力モード'!W22,"") | D23: =IF('詳細入力モード'!T22="◯",'詳細入力モード'!R22,"") | H23: =IF('詳細入力モード'!AB22="◯",'詳細入力モード'!AB22,"")
A24: =IF('詳細入力モード'!T23="◯",'詳細入力モード'!A23,"") | B24: =IF('詳細入力モード'!T23="◯",'詳細入力モード'!S23,"") | C24: =IF('詳細入力モード'!T23="◯",'詳細入力モード'!W23,"") | D24: =IF('詳細入力モード'!T23="◯",'詳細入力モード'!R23,"") | H24: =IF('詳細入力モード'!AB23="◯",'詳細入力モード'!AB23,"")
A25: =IF('詳細入力モード'!T24="◯",'詳細入力モード'!A24,"") | B25: =IF('詳細入力モード'!T24="◯",'詳細入力モード'!S24,"") | C25: =IF('詳細入力モード'!T24="◯",'詳細入力モード'!W24,"") | D25: =IF('詳細入力モード'!T24="◯",'詳細入力モード'!R24,"") | H25: =IF('詳細入力モード'!AB24="◯",'詳細入力モード'!AB24,"")
A26: =IF('詳細入力モード'!T25="◯",'詳細入力モード'!A25,"") | B26: =IF('詳細入力モード'!T25="◯",'詳細入力モード'!S25,"") | C26: =IF('詳細入力モード'!T25="◯",'詳細入力モード'!W25,"") | D26: =IF('詳細入力モード'!T25="◯",'詳細入力モード'!R25,"") | H26: =IF('詳細入力モード'!AB25="◯",'詳細入力モード'!AB25,"")
A27: =IF('詳細入力モード'!T26="◯",'詳細入力モード'!A26,"") | B27: =IF('詳細入力モード'!T26="◯",'詳細入力モード'!S26,"") | C27: =IF('詳細入力モード'!T26="◯",'詳細入力モード'!W26,"") | D27: =IF('詳細入力モード'!T26="◯",'詳細入力モード'!R26,"") | H27: =IF('詳細入力モード'!AB26="◯",'詳細入力モード'!AB26,"")
A28: =IF('詳細入力モード'!T27="◯",'詳細入力モード'!A27,"") | B28: =IF('詳細入力モード'!T27="◯",'詳細入力モード'!S27,"") | C28: =IF('詳細入力モード'!T27="◯",'詳細入力モード'!W27,"") | D28: =IF('詳細入力モード'!T27="◯",'詳細入力モード'!R27,"") | H28: =IF('詳細入力モード'!AB27="◯",'詳細入力モード'!AB27,"")
A29: =IF('詳細入力モード'!T28="◯",'詳細入力モード'!A28,"") | B29: =IF('詳細入力モード'!T28="◯",'詳細入力モード'!S28,"") | C29: =IF('詳細入力モード'!T28="◯",'詳細入力モード'!W28,"") | D29: =IF('詳細入力モード'!T28="◯",'詳細入力モード'!R28,"") | H29: =IF('詳細入力モード'!AB28="◯",'詳細入力モード'!AB28,"")
A30: =IF('詳細入力モード'!T29="◯",'詳細入力モード'!A29,"") | B30: =IF('詳細入力モード'!T29="◯",'詳細入力モード'!S29,"") | C30: =IF('詳細入力モード'!T29="◯",'詳細入力モード'!W29,"") | D30: =IF('詳細入力モード'!T29="◯",'詳細入力モード'!R29,"") | H30: =IF('詳細入力モード'!AB29="◯",'詳細入力モード'!AB29,"")
A31: =IF('詳細入力モード'!T30="◯",'詳細入力モード'!A30,"") | B31: =IF('詳細入力モード'!T30="◯",'詳細入力モード'!S30,"") | C31: =IF('詳細入力モード'!T30="◯",'詳細入力モード'!W30,"") | D31: =IF('詳細入力モード'!T30="◯",'詳細入力モード'!R30,"") | H31: =IF('詳細入力モード'!AB30="◯",'詳細入力モード'!AB30,"")
... A203: =IF('詳細入力モード'!T202="◯",'詳細入力モード'!A202,"") | B203: =IF('詳細入力モード'!T202="◯",'詳細入力モード'!S202,"") | C203: =IF('詳細入力モード'!T202="◯",'詳細入力モード'!W202,"") | D203: =IF('詳細入力モード'!T202="◯",'詳細入力モード'!R202,"") | H203: =IF('詳細入力モード'!AB202="◯",'詳細入力モード'!AB202,"")

Sheet サマリー
A1: 業務プロセス分解シート - サマリー
A3: 指標 | B3: 値 | D3: ツール別 削減見込み(分/週)
A4: 登録タスク数（詳細モード） | B4: =SUMPRODUCT(--('詳細入力モード'!A3:A16<>"")) | D4: ツール | E4: 削減見込み
A5: 登録タスク数（簡易モード） | B5: =SUMPRODUCT(--('簡易入力モード'!A3:A16<>"")) | D5: Gem | E5: =SUMPRODUCT(--('詳細入力モード'!A3:A16<>""),--('詳細入力モード'!W3:W16="Gem"),'詳細入力モード'!Z3:Z16)
A6: AI導入可能業務数（スコア50以上） | B6: =SUMPRODUCT(--('詳細入力モード'!A3:A16<>""),--('詳細入力モード'!V3:V16>=50)) | D6: NotebookLM | E6: =SUMPRODUCT(--('詳細入力モード'!A3:A16<>""),--('詳細入力モード'!W3:W16="NotebookLM"),'詳細入力モード'!Z3:Z16)
A7: 今すぐ実行するフラグ付き業務数 | B7: =SUMPRODUCT(--('詳細入力モード'!A3:A16<>""),--('詳細入力モード'!T3:T16="◯")) | D7: GAS | E7: =SUMPRODUCT(--('詳細入力モード'!A3:A16<>""),--('詳細入力モード'!W3:W16="GAS"),'詳細入力モード'!Z3:Z16)
A8: 合計 基準工数(分/週) | B8: =SUM('詳細入力モード'!U3:U16) | D8: Microsoft Copilot | E8: =SUMPRODUCT(--('詳細入力モード'!A3:A16<>""),--('詳細入力モード'!W3:W16="Microsoft Copilot"),'詳細入力モード'!Z3:Z16)
A9: 合計 削減見込み(分/週) | B9: =SUM('詳細入力モード'!Z3:Z16) | D9: Microsoft 365 AI | E9: =SUMPRODUCT(--('詳細入力モード'!A3:A16<>""),--('詳細入力モード'!W3:W16="Microsoft 365 AI"),'詳細入力モード'!Z3:Z16)
A10: 合計 期待工数(分/週) | B10: =SUM('詳細入力モード'!Y3:Y16) | D10: Power Automate | E10: =SUMPRODUCT(--('詳細入力モード'!A3:A16<>""),--('詳細入力モード'!W3:W16="Power Automate"),'詳細入力モード'!Z3:Z16)
A11: 削減率（%） | B11: =IFERROR(B8/B7*100,0) | D11: ChatGPT | E11: =SUMPRODUCT(--('詳細入力モード'!A3:A16<>""),--('詳細入力モード'!W3:W16="ChatGPT"),'詳細入力モード'!Z3:Z16)
A12: 合計 実削減(分/週) | B12: =SUM('詳細入力モード'!AA3:AA16) | D12: Claude | E12: =SUMPRODUCT(--('詳細入力モード'!A3:A16<>""),--('詳細入力モード'!W3:W16="Claude"),'詳細入力モード'!Z3:Z16)
A13: 実削減率（%） | B13: =IFERROR(AVERAGEIF('詳細入力モード'!AA3:AA16,">0",'詳細入力モード'!AB3:AB16),0) | D13: その他 | E13: =SUMPRODUCT(--('詳細入力モード'!A3:A16<>""),--('詳細入力モード'!W3:W16="その他"),'詳細入力モード'!Z3:Z16)
E14: =SUMPRODUCT(--('詳細入力モード'!A3:A16<>""),--('詳細入力モード'!W3:W16="一般的な社内AIチャット"),'詳細入力モード'!Z3:Z16)
D16: AI代替適性スコア分布
D17: スコア範囲 | E17: 業務数
D18: 80-100 | E18: =SUMPRODUCT(--('詳細入力モード'!A3:A16<>""),--('詳細入力モード'!V3:V16>=80),--('詳細入力モード'!V3:V16<=100))
D19: 50-79 | E19: =SUMPRODUCT(--('詳細入力モード'!A3:A16<>""),--('詳細入力モード'!V3:V16>=50),--('詳細入力モード'!V3:V16<=79))
D20: 0-49 | E20: =SUMPRODUCT(--('詳細入力モード'!A3:A16<>""),--('詳細入力モード'!V3:V16>=0),--('詳細入力モード'!V3:V16<=49))

Sheet 入力例
A1: タスク | B1: 現状フロー(入力→処理→出力) | C1: 頻度/週 | D1: 時間/件(分) | E1: 待ち時間/件(分) | F1: エラー率(%) | G1: ルール明確度(高/中/低) | H1: データ標準化度(高/中/低) | I1: ナレッジ依存度(高/中/低) | J1: 機密度(高/中/低) | K1: 候補手段(Gem/NotebookLM/GAS/Microsoft Copilot/Microsoft 365 AI/Power Automate/ChatGPT/Claude/その他) | L1: 基準工数(分/週) | M1: AI代替適性スコア(0-100) | N1: 推奨手段(自動) | O1: 代替割合見込み(0〜1) | P1: 期待工数(分/週) | Q1: 削減見込み(分/週) | R1: KPI(成功指標) | S1: 担当 | T1: 開始日 | U1: 評価日 | V1: Before工数(分/週) | W1: After工数(分/週) | X1: 実削減(分/週) | Y1: 実削減率 | Z1: AI活用アイデア（例：ツール名で要約） | AA1: AI導入による効果（例：30分削減） | AB1: 今すぐ実行するフラグ（◯/空欄）
A2: 営業日報集計 | B2: 日報CSV→手集計→週報PDF | C2: 5 | D2: 30 | E2: 10 | F2: 5 | G2: 高 | H2: 高 | I2: 低 | J2: 中 | K2: Gem | L2: =IFERROR(C2*(D2+E2),"") | M2: =ROUND(100*(0.2*MIN(1,IFERROR(C2/20,0))+0.15*MIN(1,IFERROR(E2/30,0))+0.2*IF(TRIM(G2)="高",1,IF(TRIM(G2)="中",0.5,0))+0.15*IF(TRIM(H2)="高",1,IF(TRIM(H2)="中",0.5,0))+0.1*MIN(1,IFERROR(F2/20,0))+0.15*IF(TRIM(I2)="高",1,IF(TRIM(I2)="中",0.5,0))+0.15*(1-IF(TRIM(J2)="高",1,IF(TRIM(J2)="中",0.5,0)))),0) | R2: 週報作成時間(分) | S2: 田中 | T2: 2025-08-18 | U2: 2025-08-25 | V2: 200 | W2: 40 | Z2: Gemで日報を自動要約 | AA2: 週次集計時間を200分→40分に削減 | AB2: ◯
A3: 契約Q&A一次対応 | B3: 質問→法務確認→テンプレ回答 | C3: 10 | D3: 15 | E3: 30 | F3: 1 | G3: 中 | H3: 中 | I3: 高 | J3: 高 | K3: Gem | L3: =IFERROR(C3*(D3+E3),"") | R3: 回答リードタイム(分) | S3: 山田 | T3: 2025-08-18 | U3: 2025-08-25 | V3: 450 | W3: 180 | Z3: Gemで契約書の質問に対して一次回答を自動生成 | AA3: 回答時間を450分→180分に削減
A4: 不具合一次切り分け | B4: ログ→目視→Jira起票 | C4: 20 | D4: 12 | E4: 5 | F4: 8 | G4: 高 | H4: 高 | I4: 中 | J4: 中 | K4: NotebookLM | L4: =IFERROR(C4*(D4+E4),"") | R4: 一次切り分け時間(分) | S4: 鈴木 | T4: 2025-08-18 | U4: 2025-08-25 | V4: 340 | W4: 160 | Z4: NotebookLMでログを分析 | AA4: 切り分け時間を340分→160分に削減

Sheet 環境確認チェック
A1: ■ 環境確認チェック
A3: 1. 派遣先の利用規定の確認
A4: 確認項目 | B4: 確認内容 | C4: 確認方法 | D4: 確認結果 | E4: 確認日 | F4: 備考
A5: 利用規約の有無 | B5: 派遣先のAIツール利用規約が存在するか | C5: 文書確認
A6: 利用目的の制限 | B6: 業務目的での利用が許可されているか | C6: 規約確認・担当者確認
A7: データ取り扱い規定 | B7: 機密情報・個人情報の取り扱い規定 | C7: 規約確認・セキュリティポリシー確認
A8: 外部ツール連携 | B8: 外部サービスとの連携が許可されているか | C8: 規約確認・IT部門確認
A9: 利用時間・場所の制限 | B9: 利用可能な時間帯・場所の制限 | C9: 規約確認・担当者確認
A10: 承認フロー | B10: 利用開始に必要な承認プロセス | C10: 規約確認・担当者確認
A11: 禁止事項 | B11: 利用してはいけない機能・用途 | C11: 規約確認
A12: 違反時の対応 | B12: 規約違反時の対応プロセス | C12: 規約確認
A14: 2. 契約プラン（有償/無償）の確認
A15: 確認項目 | B15: 確認内容 | C15: 確認方法 | D15: 確認結果 | E15: 確認日 | F15: 備考
A16: プラン種別 | B16: 無償プラン / 有償プランのどちらか | C16: 契約書確認・アカウント確認
A17: 利用可能機能 | B17: プランで利用可能な機能一覧 | C17: 契約書確認・サービス仕様書確認
A18: 利用制限 | B18: API呼び出し回数・データ容量などの制限 | C18: 契約書確認・サービス仕様書確認
A19: 課金方式 | B19: 従量課金 / 定額課金 / 無料 | C19: 契約書確認・請求書確認
A20: 利用期間 | B20: 契約期間・更新条件 | C20: 契約書確認
A21: 追加オプション | B21: 追加で契約しているオプション機能 | C21: 契約書確認・アカウント確認
A22: コスト管理 | B22: 利用状況の確認方法・アラート設定 | C22: アカウント設定確認
A23: アップグレード条件 | B23: プラン変更の条件・手続き | C23: 契約書確認・担当者確認
A25: 3. 入力OK/NG情報の整理
A26: 情報種別 | B26: 具体例 | C26: OK/NG判定 | D26: 理由・根拠 | E26: 代替手段 | F26: 備考
A27: 個人情報 | B27: 氏名、住所、電話番号、メールアドレス | C27: NG | D27: 個人情報保護法・規約違反 | E27: 匿名化・マスキング処理
A28: 機密情報 | B28: 顧客情報、取引先情報、財務情報 | C28: NG | D28: 機密保持契約・セキュリティポリシー | E28: 要承認・マスキング処理
A29: パスワード・認証情報 | B29: ログイン情報、APIキー、トークン | C29: NG | D29: セキュリティリスク | E29: 環境変数・シークレット管理
A30: 社内情報（非機密） | B30: 社内ルール、業務フロー、一般的な業務情報 | C30: OK（要確認） | D30: 規約・担当者確認済み | E30: -
A31: 公開情報 | B31: 公開されている技術情報、一般的な知識 | C31: OK | D31: 公開情報のため問題なし | E31: -
A32: テストデータ | B32: サンプルデータ、ダミーデータ | C32: OK | D32: 実データではないため問題なし | E32: -
A33: コード・スクリプト | B33: 業務用コード、設定ファイル | C33: NG（要確認） | D33: 機密情報の可能性 | E33: 要承認・マスキング処理
A34: URL・リンク | B34: 公開されているWebサイトURL | C34: OK | D34: 公開情報のため問題なし | E34: -
A35: エラーメッセージ | B35: 一般的なエラーメッセージ | C35: OK（要確認） | D35: 機密情報が含まれていないか確認 | E35: -
A36: ログ情報 | B36: システムログ、アクセスログ | C36: NG（要確認） | D36: 機密情報・個人情報の可能性 | E36: 要承認・マスキング処理
A38: 4. その他の環境確認事項
A39: 確認項目 | B39: 確認内容 | C39: 確認方法 | F39: 備考
A40: ネットワーク環境 | B40: インターネット接続、プロキシ設定 | C40: IT部門確認・設定確認
A41: ファイアウォール設定 | B41: 外部サービスへのアクセス許可 | C41: IT部門確認
A42: ブラウザ・OS要件 | B42: 推奨ブラウザ・OSバージョン | C42: サービス仕様書確認
A43: バックアップ・復旧 | B43: データバックアップ方法・復旧手順 | C43: IT部門確認・規約確認
A44: サポート体制 | B44: 問い合わせ先・サポート窓口 | C44: 契約書確認・担当者確認
...
